BEGIN:VCALENDAR
VERSION:2.0
PRODID:-//Aldo Leopold Nature Center - ECPv4.8.2//NONSGML v1.0//EN
CALSCALE:GREGORIAN
METHOD:PUBLISH
X-WR-CALNAME:Aldo Leopold Nature Center
X-ORIGINAL-URL:https://aldoleopoldnaturecenter.org
X-WR-CALDESC:Events for Aldo Leopold Nature Center
BEGIN:VEVENT
DTSTART;TZID=America/Chicago:20141209T130000
DTEND;TZID=America/Chicago:20141209T150000
DTSTAMP:20260423T001051
CREATED:20140813T225334Z
LAST-MODIFIED:20141111T212557Z
UID:6155-1418130000-1418137200@aldoleopoldnaturecenter.org
SUMMARY:Astronomy 101
DESCRIPTION:Registration closes at midnight the night before programming.\nJoin us for an afternoon under the stars as we explore our solar system; including planets\, moons and constellations. We’ll get an up close and personal look at these celestial bodies using one of our newest tools – NOAA’s Science on a Sphere. \n$10/child (ALNC Members save 10%) \n \n  \n  \n  \n  \n
URL:https://aldoleopoldnaturecenter.org/event/astronomy-101/
LOCATION:Aldo Leopold Nature Center | Monona Campus\, 330 Femrite Drive\, Monona\, 53716\, United States
CATEGORIES:Homeschool Programs,Youth Programs
ORGANIZER;CN="Aldo%20Leopold%20Nature%20Center":MAILTO:alnc@aldoleopoldnaturecenter.org
END:VEVENT
END:VCALENDAR