BEGIN:VCALENDAR
VERSION:2.0
PRODID:-//Aldo Leopold Nature Center - ECPv4.8.2//NONSGML v1.0//EN
CALSCALE:GREGORIAN
METHOD:PUBLISH
X-WR-CALNAME:Aldo Leopold Nature Center
X-ORIGINAL-URL:https://aldoleopoldnaturecenter.org
X-WR-CALDESC:Events for Aldo Leopold Nature Center
BEGIN:VEVENT
DTSTART;TZID=America/Chicago:20200523T100000
DTEND;TZID=America/Chicago:20200523T113000
DTSTAMP:20260424T111023
CREATED:20190925T175535Z
LAST-MODIFIED:20200422T170834Z
UID:13536-1590228000-1590233400@aldoleopoldnaturecenter.org
SUMMARY:Canceled: Bird & Nature Outing
DESCRIPTION:THIS EVENT HAS BEEN CANCELED FOR MAY\nFollowing the extension of the Safer At Home order of Governor Tony Evers and with great consideration of the health of our community\, the Bird & Nature Outing in May has been canceled. \nWe invite you to continue to hike our trails\, in a self-guided manner\, while also practicing safe social distancing. Getting outside and spending time in nature can boost your immune system\, reduce anxiety and release pent up energy.  \nThank you for your support and please stay tuned to our homepage for more information on programming as the days unfold. \n  \n\n \nBird and Nature Outings at Edna Taylor Conservation Park\nStarting at Aldo Leopold Nature Center\n4th Saturday of Every Month – 10am to 11:30am \nMeet at Aldo Leopold Nature Center\, 330 Femrite Drive\nPark in the first lot on the right \nJoin a naturalist for an easy\, family-friendly walk from Aldo Leopold Nature Center into the beautiful Edna Taylor Conservation Park and enjoy a bit of nature education along the way. These are free nature outings and no registration is required. Co-sponsored by Madison FUN Friends of Urban Nature partner groups Madison Parks\, Madison Audubon\, and Aldo Leopold Nature Center. See our websites and Facebook pages for more details and fun bird and nature activities. Contact 608-698-0104 for more information. \nA photographer may be onsite to document this event. If you would not like your photo taken\, please advise the photographer. Thank you! \n
URL:https://aldoleopoldnaturecenter.org/event/bird-nature-outing-2020-05-23/
LOCATION:Aldo Leopold Nature Center | Monona Campus\, 330 Femrite Drive\, Monona\, 53716\, United States
ATTACH;FMTTYPE=image/jpeg:https://aldoleopoldnaturecenter.org/wp-content/uploads/Junco-on-Branch-e1632944228703.jpg
ORGANIZER;CN="Aldo%20Leopold%20Nature%20Center":MAILTO:alnc@aldoleopoldnaturecenter.org
END:VEVENT
END:VCALENDAR