BEGIN:VCALENDAR
VERSION:2.0
PRODID:-//Aldo Leopold Nature Center - ECPv4.8.2//NONSGML v1.0//EN
CALSCALE:GREGORIAN
METHOD:PUBLISH
X-WR-CALNAME:Aldo Leopold Nature Center
X-ORIGINAL-URL:https://aldoleopoldnaturecenter.org
X-WR-CALDESC:Events for Aldo Leopold Nature Center
BEGIN:VEVENT
DTSTART;TZID=America/Chicago:20140311T093000
DTEND;TZID=America/Chicago:20140311T104500
DTSTAMP:20260421T101221
CREATED:20140225T025054Z
LAST-MODIFIED:20140225T025054Z
UID:5135-1394530200-1394534700@aldoleopoldnaturecenter.org
SUMMARY:Chew It Up (Tuesday)
DESCRIPTION:Registration Deadline: Sunday\, March 9\, 2014\nLittle termite\, chew it up. “Woodn’t” you know it? These little insects are big on biting up fun. Explore and discover the non-stop\, jaw-dropping world of termites. Come on- let’s chew it\, chew it\, chew it together. \n$9/Child (Members save 10%) \nRegister Here \n
URL:https://aldoleopoldnaturecenter.org/event/chew-it-up-tuesday/
LOCATION:Aldo Leopold Nature Center | Monona Campus\, 330 Femrite Drive\, Monona\, 53716\, United States
CATEGORIES:Wonder Bugs,Wonder Bugs Preschool Program,Youth Programs
ORGANIZER;CN="Aldo%20Leopold%20Nature%20Center":MAILTO:alnc@aldoleopoldnaturecenter.org
END:VEVENT
END:VCALENDAR