BEGIN:VCALENDAR
VERSION:2.0
PRODID:-//Aldo Leopold Nature Center - ECPv4.8.2//NONSGML v1.0//EN
CALSCALE:GREGORIAN
METHOD:PUBLISH
X-WR-CALNAME:Aldo Leopold Nature Center
X-ORIGINAL-URL:https://aldoleopoldnaturecenter.org
X-WR-CALDESC:Events for Aldo Leopold Nature Center
BEGIN:VEVENT
DTSTART;TZID=America/Chicago:20141115T130000
DTEND;TZID=America/Chicago:20141115T150000
DTSTAMP:20260420T052636
CREATED:20140619T163820Z
LAST-MODIFIED:20140619T163820Z
UID:5652-1416056400-1416063600@aldoleopoldnaturecenter.org
SUMMARY:Creepy Crawly Critters (Brownie Girl Scouts)
DESCRIPTION:Registration Deadline: Tuesday\, November 11\, 2014\nRelated Badge: Bugs Legacy Badge \nOur world is full of many different types of bugs and insects. Some insects are so tiny you need a magnifying lens to see them while others may be as big as your hand! We will look under logs\, on tall grass and even in the water on our insect hunt.  We will get a close-up look and learn to identify some of the fascinating insects that can be found right in your own backyard. \nJoin us for an all-day adventure by adding Take a Hike in the morning and staying for a picnic lunch! \nFee: $8/scout \n \n  \n  \n  \n  \n  \n
URL:https://aldoleopoldnaturecenter.org/event/creepy-crawly-critters-brownie-girl-scouts/
LOCATION:Aldo Leopold Nature Center | Monona Campus\, 330 Femrite Drive\, Monona\, 53716\, United States
CATEGORIES:Girl Scouts Programs,Youth Programs
ORGANIZER;CN="Aldo%20Leopold%20Nature%20Center":MAILTO:alnc@aldoleopoldnaturecenter.org
END:VEVENT
END:VCALENDAR