BEGIN:VCALENDAR
VERSION:2.0
PRODID:-//Aldo Leopold Nature Center - ECPv4.8.2//NONSGML v1.0//EN
CALSCALE:GREGORIAN
METHOD:PUBLISH
X-WR-CALNAME:Aldo Leopold Nature Center
X-ORIGINAL-URL:https://aldoleopoldnaturecenter.org
X-WR-CALDESC:Events for Aldo Leopold Nature Center
BEGIN:VEVENT
DTSTART;TZID=America/Chicago:20141209T093000
DTEND;TZID=America/Chicago:20141209T104500
DTSTAMP:20260423T025914
CREATED:20141031T191837Z
LAST-MODIFIED:20141031T192733Z
UID:6709-1418117400-1418121900@aldoleopoldnaturecenter.org
SUMMARY:Deer John (T)
DESCRIPTION:You are in luck! Deer do not write goodbye letters for the winter.  They bed down here and leap over there. Today the songs\, games\, and fun a-bound! \nRegistration ends at 12:30am the night before a class. Feel free to call (608)-221-0404 xO to check for space availability and/or register over the phone the day of. \n$9/Child (ALNC Members save 10%) \n
URL:https://aldoleopoldnaturecenter.org/event/deer-john-t/
LOCATION:Aldo Leopold Nature Center | Monona Campus\, 330 Femrite Drive\, Monona\, 53716\, United States
CATEGORIES:Wonder Bugs,Wonder Bugs Preschool Program
ORGANIZER;CN="Aldo%20Leopold%20Nature%20Center":MAILTO:alnc@aldoleopoldnaturecenter.org
END:VEVENT
END:VCALENDAR