BEGIN:VCALENDAR
VERSION:2.0
PRODID:-//Aldo Leopold Nature Center - ECPv4.8.2//NONSGML v1.0//EN
CALSCALE:GREGORIAN
METHOD:PUBLISH
X-WR-CALNAME:Aldo Leopold Nature Center
X-ORIGINAL-URL:https://aldoleopoldnaturecenter.org
X-WR-CALDESC:Events for Aldo Leopold Nature Center
BEGIN:VEVENT
DTSTART;TZID=America/Chicago:20141117T083000
DTEND;TZID=America/Chicago:20141117T173000
DTSTAMP:20260420T015502
CREATED:20141117T173456Z
LAST-MODIFIED:20141117T173456Z
UID:6863-1416213000-1416245400@aldoleopoldnaturecenter.org
SUMMARY:Extended Day Add-On: Gobble Gobble and Weird Science
DESCRIPTION:This extended day session runs before programming from 8:30-9:00am and after programming from 4:00-5:30pm.  You can drop off and pick up at any point within these time periods. \nDo you only need the morning or only the afternoon?  Call 221-0404×0 to register for a pro-rated version. \n \n
URL:https://aldoleopoldnaturecenter.org/event/extended-day-add-on-gobble-gobble-and-weird-science/
LOCATION:Aldo Leopold Nature Center | Monona Campus\, 330 Femrite Drive\, Monona\, 53716\, United States
ORGANIZER;CN="Aldo%20Leopold%20Nature%20Center":MAILTO:alnc@aldoleopoldnaturecenter.org
END:VEVENT
END:VCALENDAR