BEGIN:VCALENDAR
VERSION:2.0
PRODID:-//Aldo Leopold Nature Center - ECPv4.8.2//NONSGML v1.0//EN
CALSCALE:GREGORIAN
METHOD:PUBLISH
X-WR-CALNAME:Aldo Leopold Nature Center
X-ORIGINAL-URL:https://aldoleopoldnaturecenter.org
X-WR-CALDESC:Events for Aldo Leopold Nature Center
BEGIN:VEVENT
DTSTART;TZID=America/Chicago:20250426T100000
DTEND;TZID=America/Chicago:20250426T113000
DTSTAMP:20260424T132840
CREATED:20240308T204126Z
LAST-MODIFIED:20250326T152609Z
UID:18378-1745661600-1745667000@aldoleopoldnaturecenter.org
SUMMARY:Get Kids Outside: Spring Wildflower & Bird Hike
DESCRIPTION:Join Get Kids Outside for their spring event! \nSpring is here and it’s time for spring flowers to pop up. One of the first flowers of spring is bloodroot and we will learn about this pretty little flower and then take a short hike looking for spring birds. Afterwards\, the kids will enjoy a warm fire and a snack. Join us for this free\, fun adventure! \nLearn about spring ephemerals like bloodroot and look for spring birds with a hike around Aldo Leopold Nature Center \nRegister Here \n
URL:https://aldoleopoldnaturecenter.org/event/get-kids-outside-spring-wildflower-bird-hike/
LOCATION:Aldo Leopold Nature Center | Monona Campus\, 330 Femrite Drive\, Monona\, 53716\, United States
CATEGORIES:Family Activity,Public Programs
ATTACH;FMTTYPE=image/jpeg:https://aldoleopoldnaturecenter.org/wp-content/uploads/bloodroot.jpg
ORGANIZER;CN="Get%20Kids%20Outside":MAILTO:getkidsoutside@gmail.com
END:VEVENT
END:VCALENDAR