BEGIN:VCALENDAR
VERSION:2.0
PRODID:-//Aldo Leopold Nature Center - ECPv4.8.2//NONSGML v1.0//EN
CALSCALE:GREGORIAN
METHOD:PUBLISH
X-WR-CALNAME:Aldo Leopold Nature Center
X-ORIGINAL-URL:https://aldoleopoldnaturecenter.org
X-WR-CALDESC:Events for Aldo Leopold Nature Center
BEGIN:VEVENT
DTSTART;TZID=America/Chicago:20170103T130000
DTEND;TZID=America/Chicago:20170103T150000
DTSTAMP:20260420T064458
CREATED:20161219T182807Z
LAST-MODIFIED:20161220T220508Z
UID:9804-1483448400-1483455600@aldoleopoldnaturecenter.org
SUMMARY:Home School: 2017 Spring Semester Package (Ages 9-14)
DESCRIPTION:Let us add an environmental education component to your home school curriculum with our 2017 Spring Semester Package option! The package includes all 21 sessions from January 3rd\, 2017 through May 23rd\, 2017. Classes meet each Tuesday 1:00-3:00pm.\nPlease note: Vouchers and transfers are not given for absences for enrollees in the “Package” option. \nClick to be linked to a document with each date’s topic and a description of the program. \nThis option is for grades 4-8 equivalent or ages 9-14. Please call with questions. \nCost: $190/Child (ALNC members save 10%) \n \n  \n
URL:https://aldoleopoldnaturecenter.org/event/home-school-2017-spring-semester-package-ages-9-14/
LOCATION:Aldo Leopold Nature Center | Monona Campus\, 330 Femrite Drive\, Monona\, 53716\, United States
CATEGORIES:Homeschool Programs,Youth Programs
ORGANIZER;CN="Aldo%20Leopold%20Nature%20Center":MAILTO:alnc@aldoleopoldnaturecenter.org
END:VEVENT
END:VCALENDAR