BEGIN:VCALENDAR
VERSION:2.0
PRODID:-//Aldo Leopold Nature Center - ECPv4.8.2//NONSGML v1.0//EN
CALSCALE:GREGORIAN
METHOD:PUBLISH
X-WR-CALNAME:Aldo Leopold Nature Center
X-ORIGINAL-URL:https://aldoleopoldnaturecenter.org
X-WR-CALDESC:Events for Aldo Leopold Nature Center
BEGIN:VEVENT
DTSTART;TZID=America/Chicago:20181002T130000
DTEND;TZID=America/Chicago:20181002T150000
DTSTAMP:20260421T174042
CREATED:20180727T222451Z
LAST-MODIFIED:20180727T222451Z
UID:11893-1538485200-1538492400@aldoleopoldnaturecenter.org
SUMMARY:Homeschool Program: Have Seed\, Will Travel
DESCRIPTION:Registration Deadline: Friday\, September 28\, 2018\nHow do seeds move without arms and legs? We’ll discover the many ways seeds get around and help some along by making a “Living Locket” to take home and plant! \n$12/child (ALNC Members save 10%) \nFor all sessions\, registration deadline is the Friday prior to the class. This is done to allow for ALNC to plan for group sizes and staffing needs. You may call to inquire about availability after registration closes\, but realize that space may not be available. \n  \n\n\nHomeschool Ages 5-8\n \n\n\nHomeschool Ages 9-12\n \n\n\n  \n  \n  \n  \n
URL:https://aldoleopoldnaturecenter.org/event/homeschool-program-have-seed-will-travel/
LOCATION:Aldo Leopold Nature Center | Monona Campus\, 330 Femrite Drive\, Monona\, 53716\, United States
CATEGORIES:Homeschool Programs,Youth Programs
ORGANIZER;CN="Aldo%20Leopold%20Nature%20Center":MAILTO:alnc@aldoleopoldnaturecenter.org
END:VEVENT
END:VCALENDAR