BEGIN:VCALENDAR
VERSION:2.0
PRODID:-//Aldo Leopold Nature Center - ECPv4.8.2//NONSGML v1.0//EN
CALSCALE:GREGORIAN
METHOD:PUBLISH
X-WR-CALNAME:Aldo Leopold Nature Center
X-ORIGINAL-URL:https://aldoleopoldnaturecenter.org
X-WR-CALDESC:Events for Aldo Leopold Nature Center
BEGIN:VEVENT
DTSTART;TZID=America/Chicago:20171121T130000
DTEND;TZID=America/Chicago:20171121T150000
DTSTAMP:20260424T064047
CREATED:20170807T191923Z
LAST-MODIFIED:20170807T191923Z
UID:10824-1511269200-1511276400@aldoleopoldnaturecenter.org
SUMMARY:Homeschool Program: The Bear Essentials
DESCRIPTION:Registration Deadline: Friday\, November 17\, 2017\nBears are extremely intelligent and extremely misunderstood. Students will learn all about the biology\, ecology\, and natural history of the three bear species in North America. We’ll go on a “bear hike” to practice how to be bear safe in Wisconsin\, and we’ll test our senses as compared to a bear’s. \n$10/child (ALNC Members save 10%) \n  \n\n\nHomeschool Ages 5-8\n\n\n\nHomeschool Ages 9-12\n\n\n\n  \n  \n  \n  \n
URL:https://aldoleopoldnaturecenter.org/event/homeschool-program-the-bear-essentials/
LOCATION:Aldo Leopold Nature Center | Monona Campus\, 330 Femrite Drive\, Monona\, 53716\, United States
CATEGORIES:Homeschool Programs,Youth Programs
ORGANIZER;CN="Aldo%20Leopold%20Nature%20Center":MAILTO:alnc@aldoleopoldnaturecenter.org
END:VEVENT
END:VCALENDAR