BEGIN:VCALENDAR
VERSION:2.0
PRODID:-//Aldo Leopold Nature Center - ECPv4.8.2//NONSGML v1.0//EN
CALSCALE:GREGORIAN
METHOD:PUBLISH
X-WR-CALNAME:Aldo Leopold Nature Center
X-ORIGINAL-URL:https://aldoleopoldnaturecenter.org
X-WR-CALDESC:Events for Aldo Leopold Nature Center
BEGIN:VEVENT
DTSTART;TZID=America/Chicago:20140311T130000
DTEND;TZID=America/Chicago:20140311T150000
DTSTAMP:20260419T152837
CREATED:20131210T221933Z
LAST-MODIFIED:20131210T221933Z
UID:4632-1394542800-1394550000@aldoleopoldnaturecenter.org
SUMMARY:Meteorology
DESCRIPTION:Registration Deadline: March 7\, 2014\nHave you ever wondered what it would be like to be a meteorologist? We will step into their shoes as we learn about the data they need to collect before they can make a forecast. Recording temperature\, wind speed and clouds are important steps in a weather report. When we have recorded our data\, we will see what it’s like to be on TV by using our Kid’s Climate Cast exhibit! \n$10/child (members save 10%) \nREGISTER HERE \n
URL:https://aldoleopoldnaturecenter.org/event/meteorology/
LOCATION:Aldo Leopold Nature Center | Monona Campus\, 330 Femrite Drive\, Monona\, 53716\, United States
CATEGORIES:Homeschool Programs,Youth Programs
ORGANIZER;CN="Aldo%20Leopold%20Nature%20Center":MAILTO:alnc@aldoleopoldnaturecenter.org
END:VEVENT
END:VCALENDAR