BEGIN:VCALENDAR
VERSION:2.0
PRODID:-//Aldo Leopold Nature Center - ECPv4.8.2//NONSGML v1.0//EN
CALSCALE:GREGORIAN
METHOD:PUBLISH
X-WR-CALNAME:Aldo Leopold Nature Center
X-ORIGINAL-URL:https://aldoleopoldnaturecenter.org
X-WR-CALDESC:Events for Aldo Leopold Nature Center
BEGIN:VEVENT
DTSTART;TZID=America/Chicago:20141114T090000
DTEND;TZID=America/Chicago:20141114T160000
DTSTAMP:20260420T105141
CREATED:20140814T141838Z
LAST-MODIFIED:20141110T170743Z
UID:6206-1415955600-1415980800@aldoleopoldnaturecenter.org
SUMMARY:Nature\, Camera\, Action!
DESCRIPTION:Registration Deadline: Thursday\, November 13th at noon.\nLive from Monona…starring you! Ever wanted to create or star in a nature film or documentary? Join us for a day of nature observation\, exploration and digital media! We’ll spend the morning outdoors observing\, investigating and digitally recording the things we see and discover. After lunch\, we’ll research our observations\, review our footage and create videos to share our observations with others all over the world. Using green screen technology in the Kids Climate Cast studio\, we’ll practice\, record and post our video observations for others to learn from and enjoy. Please pack a sack lunch.  AM and PM snacks provided. Programming appropriate for ages 5-12. \nFees: $50/child  (ALNC members save 10%) \n \n  \n  \n  \n  \n  \n
URL:https://aldoleopoldnaturecenter.org/event/nature-camera-action/
LOCATION:Aldo Leopold Nature Center | Monona Campus\, 330 Femrite Drive\, Monona\, 53716\, United States
CATEGORIES:Vacation Day Programs,Youth Programs
ORGANIZER;CN="Aldo%20Leopold%20Nature%20Center":MAILTO:alnc@aldoleopoldnaturecenter.org
END:VEVENT
END:VCALENDAR