BEGIN:VCALENDAR
VERSION:2.0
PRODID:-//Aldo Leopold Nature Center - ECPv4.8.2//NONSGML v1.0//EN
CALSCALE:GREGORIAN
METHOD:PUBLISH
X-WR-CALNAME:Aldo Leopold Nature Center
X-ORIGINAL-URL:https://aldoleopoldnaturecenter.org
X-WR-CALDESC:Events for Aldo Leopold Nature Center
BEGIN:VEVENT
DTSTART;TZID=America/Chicago:20130802T100000
DTEND;TZID=America/Chicago:20130802T120000
DTSTAMP:20260419T171728
CREATED:20130729T154515Z
LAST-MODIFIED:20130729T154515Z
UID:3294-1375437600-1375444800@aldoleopoldnaturecenter.org
SUMMARY:PBS Get Up and Go Day!
DESCRIPTION:PBS Kids is encouraging your kiddos to get outside\, get active\, and be healthy at their 15th annual Get Up and Go Day featuring the Aldo Leopold Nature Center! This year features a new Madison location for the event\, as well as 5 others locations throughout Wisconsin. \nWisconsin PBS Kids is home to children’s show faves like Curious George\, Sesame Street\, Cat in the Hat Knows a lot About That\, Word Girl and more. Now take the characters and shows kiddos love to inspire them to get outside\, be active\, and be healthy; that’s the idea behind PBS Kids Get Up and Go Day. This year’s event is being held at the Kohl Center on August 2nd from 10:00 AM – 12:00 PM and will feature activities events that encourage healthy living. This free event will also feature an appearance from PBS Kids host Mr. Steve\, and is televised across the state. \nHave friends or family in other areas of WI? Let them know about Get Up and Go Day too! Other locations include La Crosse\, Eau Claire\, Fox Valley\, and Keshena and each location features a different costumed character or PBS Kids host. Get Up and Go and have a great time! \n
URL:https://aldoleopoldnaturecenter.org/event/pbs-get-up-and-go-day/
LOCATION:Kohl Center\, 601 West Dayton\, Madison\, WI
CATEGORIES:Drop-In Programs
ORGANIZER;CN="Aldo%20Leopold%20Nature%20Center":MAILTO:alnc@aldoleopoldnaturecenter.org
END:VEVENT
END:VCALENDAR