BEGIN:VCALENDAR
VERSION:2.0
PRODID:-//Aldo Leopold Nature Center - ECPv4.8.2//NONSGML v1.0//EN
CALSCALE:GREGORIAN
METHOD:PUBLISH
X-WR-CALNAME:Aldo Leopold Nature Center
X-ORIGINAL-URL:https://aldoleopoldnaturecenter.org
X-WR-CALDESC:Events for Aldo Leopold Nature Center
BEGIN:VEVENT
DTSTART;TZID=America/Chicago:20191005T163000
DTEND;TZID=America/Chicago:20191005T200000
DTSTAMP:20260423T041807
CREATED:20170616T160926Z
LAST-MODIFIED:20191003T134748Z
UID:10652-1570293000-1570305600@aldoleopoldnaturecenter.org
SUMMARY:Pipers in the Prairie & Festival Fire
DESCRIPTION:Light up the night sky for children’s environmental education!\nJoin us for our annual Pipers in the Prairie fundraising gala where we will celebrate 25 years\nand unveil the new Aldo Leopold Nature Preschool and remodeled Aldo Leopold Nature Center Discovery Wing!\nBagpipers will enchant guests with their ethereal melodies during this unique and extravagant evening featuring: \n\nComplimentary Wine\, Beer and Non-Alcoholic Beverages\nA hearty buffet of delicious hors d’oeurves and decadent desserts\nCaptivating Celtic music by West Wind and a prairie performance by the Green Man\nSeasonally-inspired crafts for the kids\nExciting Irish dance demonstration by Cashel Dennehy\nPipers in the Prairie and Drummers on the Drumlin\nA spectacular Festival Fire by Prairie Restorationists\nSilent Auction – Online and Onsite\n\n  \nAll proceeds from this celebration benefit children’s environmental education programming at the Aldo Leopold Nature Center.\n  \nTHE EVENING’S SCHEDULE OF FESTIVITIES\n4:30\nCocktails and Hors d’oeuvres with Celtic Music by West Wind\nExclusive Onsite Silent Auction in the Conference Room\nSelf-Guided Tours of the Immersion Theater and Science on a Sphere\nChildren’s Crafts in the newly renovated Learning Labs–Green Man Staffs & Nature Necklaces \n5:30-6:00\nIrish Dance Demonstration \n6:15\nWelcome: Mike Strigel\, Executive Director & Bob Lindmeier\, WKOW-TV 27 \n6:30\nDrummers on the Drumlin & Pipers in the Prairie \n6:45\nAppearance by the Green Man \n7:00\nAnnual Festival Fire\nPlease feel free to continue your enjoyment of the Festival Fire and participate in the silent auction. \n \n  \n \nTICKETS\nAdults (18+): $75; Children (5-17): $25; Children (4 and under): Free\n  \nREGISTER NOW TO LIGHT UP THE NIGHT SKY! \n \nWalk-in registration will be available on-site on the day of the event. \n \n  \nOnline Silent Auction NOW OPEN! \nBID ONLINE \n \n \n \n \n  \nThis Annual Event Is Made Possible Through Community and Corporate Partner Support – Thank You To All Of Our 2019 Partners! \nIf you are interested in partnering for our 2019 event or are looking for more information\, please contact Kelley Van Egeren at (608) 216-9373. \n  \n2019 Event Partners \n\n \n  \n  \n  \n  \n  \n2019 Media Partners \n\n  \n  \n  \n  \n  \n2019 In-Kind Partners \n\n\n\n  \n  \n  \n  \n  \nAlluring Blooms • Angelo’s • Banzo • Blooms by Brandi • Buck and Honey’s • Carl’s Cakes • Concourse Hotel Catering  • Cranberry Creek Catering • Denny’s • Essen Haus • Felly’s Flowers • Fraboni’s Italian Specialties • Gaylord Catering • Glass Nickel Pizza • Harvest • Jason’s Deli • Karben4 Brewing • Ken’s Meat & Deli • Klein’s Floral & Greenhouse • Linda’s Angels • Madison Sourdough Company • Manna Cafe • Marigold Kitchen • Organic Valley • Rocky Rococo’s Pizza • The Seafood Center • Starbucks • Tully’s II • Upstairs Downstairs Catering \nAgrecol • Althea Dotzour Photography • American Players Theatre • Anytime Fitness • Aveda Institute • Bad Dog Frida • Benvenuto’s • Blue Plate Catering • Body in Balance • Boulders Climbing Gym • Carr Valley Cheese • Cave of the Mounds • Chicago Cubs • The Chocolate Shoppe Ice Cream Co • CIRC • Comedy Club on State • Community Pharmacy • Crystal Cave • Dance Easy • Dave Hoffman • Deja Food Group • Dexter’s Pub • Dinner Detective • Driftless Studio • Dykman Time Shop • Elements Massage • Marilyn Duguid • Emily Plants • Ephraim Pottery • Estrellon • Exclusive Inspirations • Festival Foods Finer DeTails Pet Spa • Float Madison • Food Fight • Forward Madison FC • Four Elements Organic Herbals • Fred Astaire Dance Studio • Funk Factory Geuzeria Galena Cellers Vinyard & Winery • The Graduate Madison • Grampa’s and Porters Elements Massage • Green Bay Packers • Green Cab Madison • Guthrie Theater Harbor Athletic Club • Harmony Valley Farms • Hilton Madison Monona Terrace • Human Nature LLC • Imperial Garden • Indulgences Wearable Art • Inner Fire Yoga Center for Wellness • J.H. Findorff and Sons • Julia Grace Salon • Jung Garden Center • Kneaded Relief Day Spa and Wellness • Lake Geneva Canopy Tours Larsen Photography • Lee Weiss • Mad Cat • Madison Capitols • Madison Children’s Museum • Madison Club • Madison Concourse Hotel • Madison Magazine • Madison Museum of Contemporary Art • Madison Symphony Orchestra • Marilyn Duguid • Mark Hirsch • Massage East • Metcalfe Market • Milwaukee Admirals Milwaukee Brewers • Milwaukee Public Museum • Morgan Shoes • Movin’ Shoes • Nick Offerman • Off Broadway Draft House • Olbrich Gardens  • Orange Tree Imports • Pacific Cycle • Paradigm Gardens • Pasture and Plenty • Peaceful Heart Gifts and Books • Peg Smelser Pendarvis • Pinnacle Health and Fitness • Pirate’s Cove • Portage Country Club • Qēt Botanicals • REI • The Red Zone • Rejuvenation Spa • Rishi Tea • Ruthie Hauge Photography • Sardine • Schwoegler’s • Shedd Aquarium • Short Stack Slow Roll Cycle • Star Liquor • The Stoned Birdhouse • Stoughton Garden Center • Stoughton Opera House • Studio Z Salon • Table Wine • Taliesin • Trader Joe’s • Treinen Farm Corn Maze • The Vinery • Vitense Golfland • Willy Street Co-op • The Wood Cycle and more! \n  \nVolunteers Needed! If you are interested in assisting us at Pipers in the Prairie\, please click here for available volunteer opportunities. \n
URL:https://aldoleopoldnaturecenter.org/event/pipers-in-the-prairie/
LOCATION:Aldo Leopold Nature Center | Monona Campus\, 330 Femrite Drive\, Monona\, 53716\, United States
CATEGORIES:Adult Programs,Public Programs
ATTACH;FMTTYPE=image/jpeg:https://aldoleopoldnaturecenter.org/wp-content/uploads/The-fire-is-lit-SQUARE-e1562604900953.jpg
ORGANIZER;CN="Aldo%20Leopold%20Nature%20Center":MAILTO:alnc@aldoleopoldnaturecenter.org
END:VEVENT
END:VCALENDAR