BEGIN:VCALENDAR
VERSION:2.0
PRODID:-//Aldo Leopold Nature Center - ECPv4.8.2//NONSGML v1.0//EN
CALSCALE:GREGORIAN
METHOD:PUBLISH
X-WR-CALNAME:Aldo Leopold Nature Center
X-ORIGINAL-URL:https://aldoleopoldnaturecenter.org
X-WR-CALDESC:Events for Aldo Leopold Nature Center
BEGIN:VEVENT
DTSTART;TZID=America/Chicago:20150526T130000
DTEND;TZID=America/Chicago:20150526T150000
DTSTAMP:20260426T031526
CREATED:20141201T222301Z
LAST-MODIFIED:20141201T222301Z
UID:6986-1432645200-1432652400@aldoleopoldnaturecenter.org
SUMMARY:Pondering Aquatic Life
DESCRIPTION:Follow us to the pond where we’ll meet some aquatic life! We’ll use nets and bug boxes\nto catch and identify the critters that live\, breathe\, and eat underwater. Scan nearby trees for wetland birds and submerged logs for signs of turtles. Can you spot frog or toad eggs? Join us to dip for insects and “ponder” life under water! \nRegistration ends at midnight the night prior to the session. Register using the link below or call 608-221-0404×0. \nCost: $10/child (ALNC members receive 10% off) \n \n
URL:https://aldoleopoldnaturecenter.org/event/pondering-aquatic-life/
LOCATION:Aldo Leopold Nature Center | Monona Campus\, 330 Femrite Drive\, Monona\, 53716\, United States
CATEGORIES:Homeschool Programs,Youth Programs
ORGANIZER;CN="Aldo%20Leopold%20Nature%20Center":MAILTO:alnc@aldoleopoldnaturecenter.org
END:VEVENT
END:VCALENDAR