BEGIN:VCALENDAR
VERSION:2.0
PRODID:-//Aldo Leopold Nature Center - ECPv4.8.2//NONSGML v1.0//EN
CALSCALE:GREGORIAN
METHOD:PUBLISH
X-WR-CALNAME:Aldo Leopold Nature Center
X-ORIGINAL-URL:https://aldoleopoldnaturecenter.org
X-WR-CALDESC:Events for Aldo Leopold Nature Center
BEGIN:VEVENT
DTSTART;TZID=America/Chicago:20171128T190000
DTEND;TZID=America/Chicago:20171128T210000
DTSTAMP:20260424T133422
CREATED:20171018T013421Z
LAST-MODIFIED:20171101T154851Z
UID:11045-1511895600-1511902800@aldoleopoldnaturecenter.org
SUMMARY:Stories from the Land: A #GivingTuesday Event with Jerry Apps
DESCRIPTION:Celebrate #GivingTuesday with a talk by top-selling rural-life author Jerry Apps!\n  \n \nWe would rest on the hay that\nsmelled of sweet clover\nand alfalfa and listen to the\ndrumming of the raindrops\non the barn roof. \nWe’d listen to Pa’s stories of rainy\ndays he remembered.\nWe enjoyed a day of rest and\ncelebrated the rain\, for our sandy\nfarm never had enough. \n– Jerry Apps \nCelebrate #GivingTuesday with us as we listen to Jerry Apps share stories and excerpts from his books and rural-life experiences! The Wisconsin Historical Society Press will be here\, selling copies of Jerry’s book and donating a portion of the proceeds to help us create equitable access for all children at ALNC! \nA book signing will follow. \nNo registration required. \nFor more information\, please contact Halley Pucker at halley@naturenet.com. \n
URL:https://aldoleopoldnaturecenter.org/event/stories-from-the-land-a-giving-tuesday-event-with-jerry-apps/
LOCATION:Aldo Leopold Nature Center | Monona Campus\, 330 Femrite Drive\, Monona\, 53716\, United States
CATEGORIES:Adult Programs,Drop-In Programs,Public Programs
ORGANIZER;CN="Aldo%20Leopold%20Nature%20Center":MAILTO:alnc@aldoleopoldnaturecenter.org
END:VEVENT
END:VCALENDAR