BEGIN:VCALENDAR
VERSION:2.0
PRODID:-//Aldo Leopold Nature Center - ECPv4.8.2//NONSGML v1.0//EN
CALSCALE:GREGORIAN
METHOD:PUBLISH
X-WR-CALNAME:Aldo Leopold Nature Center
X-ORIGINAL-URL:https://aldoleopoldnaturecenter.org
X-WR-CALDESC:Events for Aldo Leopold Nature Center
BEGIN:VEVENT
DTSTART;TZID=America/Chicago:20170103T090000
DTEND;TZID=America/Chicago:20170103T160000
DTSTAMP:20260422T121212
CREATED:20161108T193451Z
LAST-MODIFIED:20161108T193451Z
UID:9567-1483434000-1483459200@aldoleopoldnaturecenter.org
SUMMARY:Vacation Day: Happy Birthday\, Aldo!
DESCRIPTION:Did you know that Aldo Leopold’s birthday is in January? Let’s celebrate his birthday by doing some of his favorite activities! We will learn how to observe nature and record what is happening outside. Phenology is a term you will get to learn and use to compare the timing of what we see and observe in the natural world with what others have seen in the past.\nPlease pack a sack lunch. AM and PM snacks provided. \nCost: $55/child (Members receive 10% discount) \nAdditional info:\n— Vacation Day programming is designed for ages 5-12. Attendees will be split into groups according to age so material may be adjusted accordingly.\n— Please send your child with an extra set of clothing\, appropriate clothing to spend the majority of the day outdoors\, and bug spray and/or sunscreen if appropriate. \nExtended Day is available from 8:30-9am and 4-5:30pm at an additional cost. See previous page to register.   \n \n
URL:https://aldoleopoldnaturecenter.org/event/vacation-day-happy-birthday-aldo/
LOCATION:Aldo Leopold Nature Center | Monona Campus\, 330 Femrite Drive\, Monona\, 53716\, United States
CATEGORIES:Vacation Day Programs,Youth Programs
ORGANIZER;CN="Aldo%20Leopold%20Nature%20Center":MAILTO:alnc@aldoleopoldnaturecenter.org
END:VEVENT
END:VCALENDAR