BEGIN:VCALENDAR
VERSION:2.0
PRODID:-//Aldo Leopold Nature Center - ECPv4.8.2//NONSGML v1.0//EN
CALSCALE:GREGORIAN
METHOD:PUBLISH
X-WR-CALNAME:Aldo Leopold Nature Center
X-ORIGINAL-URL:https://aldoleopoldnaturecenter.org
X-WR-CALDESC:Events for Aldo Leopold Nature Center
BEGIN:VEVENT
DTSTART;TZID=America/Chicago:20181231T090000
DTEND;TZID=America/Chicago:20181231T160000
DTSTAMP:20260420T030015
CREATED:20181026T194016Z
LAST-MODIFIED:20181026T194207Z
UID:12167-1546246800-1546272000@aldoleopoldnaturecenter.org
SUMMARY:Vacation Day: Owl Moon (MGSD & MMSD)
DESCRIPTION:While some birds migrate south to sunny skies and warmer winters\, some birds stay here in Wisconsin to tough it out including many owls! We’ll read the story “Owl Moon” then use our detective eyes and ears to look and listen for signs of owls and other winter birds. We’ll learn all about winter birds and owls\, specifically\, through dissecting owl pellets\, checking out ALNC’s own Barred Owl nest box\, and more! \nCost: $60/child for full day (9am-4pm) \nPlease pack a sack lunch. AM and PM snacks provided. \nAdditional info:\n— Vacation Day programming is designed for ages 5-12. Attendees will be split into groups according to age so material may be adjusted accordingly.\n— Please send your child with appropriate clothing to spend the majority of the day outdoors and bug spray and/or sunscreen if appropriate. \nExtended Day is available from 8 to 9 am and 4 to 5:30 pm for an additional cost. Click here to register for Extended Day.  \n \n
URL:https://aldoleopoldnaturecenter.org/event/vacation-day-owl-moon-mgsd-mmsd/
LOCATION:Aldo Leopold Nature Center | Monona Campus\, 330 Femrite Drive\, Monona\, 53716\, United States
CATEGORIES:Vacation Day Programs,Youth Programs
ORGANIZER;CN="Aldo%20Leopold%20Nature%20Center":MAILTO:alnc@aldoleopoldnaturecenter.org
END:VEVENT
END:VCALENDAR