BEGIN:VCALENDAR
VERSION:2.0
PRODID:-//Aldo Leopold Nature Center - ECPv4.8.2//NONSGML v1.0//EN
CALSCALE:GREGORIAN
METHOD:PUBLISH
X-WR-CALNAME:Aldo Leopold Nature Center
X-ORIGINAL-URL:https://aldoleopoldnaturecenter.org
X-WR-CALDESC:Events for Aldo Leopold Nature Center
BEGIN:VEVENT
DTSTART;TZID=America/Chicago:20141205T093000
DTEND;TZID=America/Chicago:20141205T104500
DTSTAMP:20260423T050844
CREATED:20141031T190746Z
LAST-MODIFIED:20141031T194540Z
UID:6708-1417771800-1417776300@aldoleopoldnaturecenter.org
SUMMARY:Winter Wonder Bugs Friday Package
DESCRIPTION:Save with our Winter Package Option! Join us this winter to explore a different seasonal topic each week through hikes\, outdoor exploration\, music\, puppetry\, songs\, stories and more. This package includes all of the Friday sessions December 5th through February 27th (11 sessions). Each class is held from 9:30-10:45am. \nRegistration ends at 12:30am the night before the first session. Feel free to call (608)-221-0404 xO to check for space availability and/or register over the phone the day of. \n$88/Child (ALNC Members save 10%) \n
URL:https://aldoleopoldnaturecenter.org/event/winter-wonder-bugs-friday-package/
LOCATION:Aldo Leopold Nature Center | Monona Campus\, 330 Femrite Drive\, Monona\, 53716\, United States
CATEGORIES:Wonder Bugs,Wonder Bugs Preschool Program
ORGANIZER;CN="Aldo%20Leopold%20Nature%20Center":MAILTO:alnc@aldoleopoldnaturecenter.org
END:VEVENT
END:VCALENDAR