BEGIN:VCALENDAR
VERSION:2.0
PRODID:-//Aldo Leopold Nature Center - ECPv4.8.2//NONSGML v1.0//EN
CALSCALE:GREGORIAN
METHOD:PUBLISH
X-WR-CALNAME:Aldo Leopold Nature Center
X-ORIGINAL-URL:https://aldoleopoldnaturecenter.org
X-WR-CALDESC:Events for Aldo Leopold Nature Center
BEGIN:VEVENT
DTSTART;TZID=America/Chicago:20181207T093000
DTEND;TZID=America/Chicago:20181207T104500
DTSTAMP:20260420T050539
CREATED:20181112T143858Z
LAST-MODIFIED:20181112T143858Z
UID:12193-1544175000-1544179500@aldoleopoldnaturecenter.org
SUMMARY:Wonder Bugs Preschool Program: Cone Zone (Fri AM)
DESCRIPTION:We find them on the ground and up above our heads. Cones from conifer trees are fun to explore with their varied patterns and textures and sizes. Join us as we learn all about these special seed protectors and their conifer family. \nNotes:\n— All sessions include indoor and outdoor time. Please bring appropriate outdoor clothing.\n— All sessions include a snack.\n– For all sessions\, registration deadline is 24 hours prior to the program. For more information or to register by phone\, call 608-221-0404 x 1. Please call to inquire about space if planning to drop in or if less than 24 hours prior.\n— Siblings younger than age two are welcome to attend along with a paid registrant until he/she actively participates and/or consumes snack then he/she must be registered separately. \nFee: $10/Child (ALNC Members save 10%)\nAge: 2-5 years old \n \n
URL:https://aldoleopoldnaturecenter.org/event/wonder-bugs-preschool-program-cone-zone-fri-am/
LOCATION:Aldo Leopold Nature Center | Monona Campus\, 330 Femrite Drive\, Monona\, 53716\, United States
CATEGORIES:Wonder Bugs,Wonder Bugs Preschool Program,Youth Programs
ORGANIZER;CN="Aldo%20Leopold%20Nature%20Center":MAILTO:alnc@aldoleopoldnaturecenter.org
END:VEVENT
END:VCALENDAR