BEGIN:VCALENDAR
VERSION:2.0
PRODID:-//Aldo Leopold Nature Center - ECPv4.8.2//NONSGML v1.0//EN
CALSCALE:GREGORIAN
METHOD:PUBLISH
X-WR-CALNAME:Aldo Leopold Nature Center
X-ORIGINAL-URL:https://aldoleopoldnaturecenter.org
X-WR-CALDESC:Events for Aldo Leopold Nature Center
BEGIN:VEVENT
DTSTART;TZID=America/Chicago:20160907T093000
DTEND;TZID=America/Chicago:20160907T104500
DTSTAMP:20260421T101040
CREATED:20160802T171533Z
LAST-MODIFIED:20160802T171533Z
UID:9098-1473240600-1473245100@aldoleopoldnaturecenter.org
SUMMARY:Wonder Bugs Preschool Program: Migration Madness (Wednesday)
DESCRIPTION:Spread your wings and get ready to fly south for the winter. Play games and explore the world of migration. You may just want to join the gaggle of geese by the time we’re\ndone! \nOnline registration ends at midnight the night before a class. Walk-in registrations accepted based off of availability. It is recommended to call ahead of time to ensure space availability at (608)-216-9370. \nFee: $9/Child (ALNC Members save 10%)\nAge: 2-5 years old (Siblings younger than 2 attend at no additional fee) \n \n
URL:https://aldoleopoldnaturecenter.org/event/wonder-bugs-preschool-program-migration-madness-wednesday/
LOCATION:Aldo Leopold Nature Center | Monona Campus\, 330 Femrite Drive\, Monona\, 53716\, United States
CATEGORIES:Wonder Bugs,Wonder Bugs Preschool Program
ORGANIZER;CN="Aldo%20Leopold%20Nature%20Center":MAILTO:alnc@aldoleopoldnaturecenter.org
END:VEVENT
END:VCALENDAR