BEGIN:VCALENDAR
VERSION:2.0
PRODID:-//Aldo Leopold Nature Center - ECPv4.8.2//NONSGML v1.0//EN
CALSCALE:GREGORIAN
METHOD:PUBLISH
X-WR-CALNAME:Aldo Leopold Nature Center
X-ORIGINAL-URL:https://aldoleopoldnaturecenter.org
X-WR-CALDESC:Events for Aldo Leopold Nature Center
BEGIN:VEVENT
DTSTART;TZID=America/Chicago:20170317T093000
DTEND;TZID=America/Chicago:20170317T104500
DTSTAMP:20260422T023032
CREATED:20170215T202208Z
LAST-MODIFIED:20170215T202208Z
UID:10093-1489743000-1489747500@aldoleopoldnaturecenter.org
SUMMARY:Wonder Bugs Preschool Program: Sweet Home Wisconsin (Friday)
DESCRIPTION:What makes Wisconsin so sweet? Come to this lesson and learn about making maple syrup and brewing tea. See what it was like to live like a pioneer. Love the seasons and nature\, Wisconsin style! \nNotes:\n— All sessions include indoor and outdoor time. Please bring appropriate outdoor clothing.\n— All sessions include a snack.\n— Online registration ends at midnight the night before a class. Walk-in registrations accepted based off of availability. It is recommended to call ahead of time to ensure space availability at (608)-216-9370.\n— Siblings younger than age two are welcome to attend along with a paid registrant until he/she actively participates and/or consumes snack then he/she must be registered separately. \nFee: $9/Child (ALNC Members save 10%)\nAge: 2-5 years old \n \n
URL:https://aldoleopoldnaturecenter.org/event/wonder-bugs-preschool-program-sweet-home-wisconsin-friday/
LOCATION:Aldo Leopold Nature Center | Monona Campus\, 330 Femrite Drive\, Monona\, 53716\, United States
CATEGORIES:Wonder Bugs,Wonder Bugs Preschool Program
ORGANIZER;CN="Aldo%20Leopold%20Nature%20Center":MAILTO:alnc@aldoleopoldnaturecenter.org
END:VEVENT
END:VCALENDAR