BEGIN:VCALENDAR
VERSION:2.0
PRODID:-//Aldo Leopold Nature Center - ECPv4.8.2//NONSGML v1.0//EN
CALSCALE:GREGORIAN
METHOD:PUBLISH
X-WR-CALNAME:Aldo Leopold Nature Center
X-ORIGINAL-URL:https://aldoleopoldnaturecenter.org
X-WR-CALDESC:Events for Aldo Leopold Nature Center
BEGIN:VEVENT
DTSTART;TZID=America/Chicago:20161011T131500
DTEND;TZID=America/Chicago:20161011T143000
DTSTAMP:20260420T140825
CREATED:20160802T201259Z
LAST-MODIFIED:20160802T201259Z
UID:9117-1476191700-1476196200@aldoleopoldnaturecenter.org
SUMMARY:Wonder Bugs Preschool Program: The Good Oaks (Tuesday PM)
DESCRIPTION:Lobed or simple. Serrated or smooth.  Just leaf the details to us! Discover the crooked way of the oaks while we sing\, craft\, and play. \nOnline registration ends at midnight the night before a class. Walk-in registrations accepted based off of availability. It is recommended to call ahead of time to ensure space availability at (608)-216-9370. \nFee: $9/Child (ALNC Members save 10%)\nAge: 2-5 years old (Siblings younger than 2 attend at no additional fee) \n \n
URL:https://aldoleopoldnaturecenter.org/event/wonder-bugs-preschool-program-the-good-oaks-tuesday-pm/
LOCATION:Aldo Leopold Nature Center | Monona Campus\, 330 Femrite Drive\, Monona\, 53716\, United States
CATEGORIES:Wonder Bugs,Wonder Bugs Preschool Program
ORGANIZER;CN="Aldo%20Leopold%20Nature%20Center":MAILTO:alnc@aldoleopoldnaturecenter.org
END:VEVENT
END:VCALENDAR