BEGIN:VCALENDAR
VERSION:2.0
PRODID:-//Aldo Leopold Nature Center - ECPv4.8.2//NONSGML v1.0//EN
CALSCALE:GREGORIAN
METHOD:PUBLISH
X-WR-CALNAME:Aldo Leopold Nature Center
X-ORIGINAL-URL:https://aldoleopoldnaturecenter.org
X-WR-CALDESC:Events for Aldo Leopold Nature Center
BEGIN:VEVENT
DTSTART;TZID=America/Chicago:20140506T130000
DTEND;TZID=America/Chicago:20140506T150000
DTSTAMP:20260421T123020
CREATED:20131210T224536Z
LAST-MODIFIED:20131210T224536Z
UID:4640-1399381200-1399388400@aldoleopoldnaturecenter.org
SUMMARY:Woodland Park Discovery Day
DESCRIPTION:Registration Deadline: May 2\, 2014\nAcross from the Nature Center driveway is the City of Monona’s Woodland Park. We’ll explore this wonderful\, wooded area for newly emerging spring wildflowers and mushrooms! With binoculars we’ll scan the shrubs and canopy for migrating spring birds. Join us to learn about the large\, glacial drumlin that forms the main hill and play games in the open oak savanna restoration area. It will be a day of adventure! \n$10/child (members save 10%) \nREGISTER HERE \n
URL:https://aldoleopoldnaturecenter.org/event/woodland-park-discovery-day/
LOCATION:Aldo Leopold Nature Center | Monona Campus\, 330 Femrite Drive\, Monona\, 53716\, United States
CATEGORIES:Homeschool Programs,Youth Programs
ORGANIZER;CN="Aldo%20Leopold%20Nature%20Center":MAILTO:alnc@aldoleopoldnaturecenter.org
END:VEVENT
END:VCALENDAR