BEGIN:VCALENDAR
VERSION:2.0
PRODID:-//Aldo Leopold Nature Center - ECPv4.8.2//NONSGML v1.0//EN
CALSCALE:GREGORIAN
METHOD:PUBLISH
X-WR-CALNAME:Aldo Leopold Nature Center
X-ORIGINAL-URL:https://aldoleopoldnaturecenter.org
X-WR-CALDESC:Events for Aldo Leopold Nature Center
BEGIN:VEVENT
DTSTART;TZID=America/Chicago:20150327T093000
DTEND;TZID=America/Chicago:20150327T104500
DTSTAMP:20260425T131834
CREATED:20150217T210008Z
LAST-MODIFIED:20150217T210223Z
UID:7399-1427448600-1427453100@aldoleopoldnaturecenter.org
SUMMARY:World Wide Web (F)
DESCRIPTION:We’re not talking about the internet! Discover the kings of the food chain mountain while playing games and exploring outside. Your eyes will be wide open! \nRegistration ends at 12:30am the night before a class. Feel free to call (608)-221-0404 xO to check for space availability and/or register over the phone the day of. \n$9/Child (ALNC Members save 10%) \n \n
URL:https://aldoleopoldnaturecenter.org/event/world-wide-web-w/
LOCATION:Aldo Leopold Nature Center | Monona Campus\, 330 Femrite Drive\, Monona\, 53716\, United States
CATEGORIES:Wonder Bugs,Wonder Bugs Preschool Program
ORGANIZER;CN="Aldo%20Leopold%20Nature%20Center":MAILTO:alnc@aldoleopoldnaturecenter.org
END:VEVENT
END:VCALENDAR