BEGIN:VCALENDAR
VERSION:2.0
PRODID:-//Aldo Leopold Nature Center - ECPv4.8.2//NONSGML v1.0//EN
CALSCALE:GREGORIAN
METHOD:PUBLISH
X-WR-CALNAME:Aldo Leopold Nature Center
X-ORIGINAL-URL:https://aldoleopoldnaturecenter.org
X-WR-CALDESC:Events for Aldo Leopold Nature Center
BEGIN:VEVENT
DTSTART;TZID=America/Chicago:20150928T083000
DTEND;TZID=America/Chicago:20150928T173000
DTSTAMP:20260425T190707
CREATED:20150820T200343Z
LAST-MODIFIED:20150820T201009Z
UID:8152-1443429000-1443461400@aldoleopoldnaturecenter.org
SUMMARY:Vacation Day Add-On: Extended Day
DESCRIPTION:This extended day session runs before programming from 8:30-9:00am and after programming from 4:00-5:30pm on Monday\, September 28\, 2015.  You can drop off and pick up at any point within these time periods. \nCost: $16/child (ALNC members receive 10% discount) \nDo you only need the morning or the afternoon?  Call 221-0404×0 to register for a pro-rated version. \n \n
URL:https://aldoleopoldnaturecenter.org/event/vacation-day-add-on-extended-day/
LOCATION:Aldo Leopold Nature Center | Monona Campus\, 330 Femrite Drive\, Monona\, 53716\, United States
CATEGORIES:Vacation Day Programs,Youth Programs
ORGANIZER;CN="Aldo%20Leopold%20Nature%20Center":MAILTO:alnc@aldoleopoldnaturecenter.org
END:VEVENT
BEGIN:VEVENT
DTSTART;TZID=America/Chicago:20150928T090000
DTEND;TZID=America/Chicago:20150928T160000
DTSTAMP:20260425T190707
CREATED:20150820T192744Z
LAST-MODIFIED:20150820T192744Z
UID:8143-1443430800-1443456000@aldoleopoldnaturecenter.org
SUMMARY:Vacation Day: Dip Dip Hooray!
DESCRIPTION:Join us for a full day of watery fall learning in and around our pond and marsh.  We’ll investigate how life in the pond is adapting to cooler temps\, search for frogs\, nymphs\, tadpoles and muskrats\, watch for migrating fall birds and much\, much more! \nCost: $55/child (10% discount for members) \nAdditional info:\n— Vacation Day programming is designed for ages 5-12. Attendees will be split into groups according to age so material may be adjusted accordingly.\n— Please send your child with a non-refrigerated lunch\, an extra set of clothing\, appropriate clothing to spend the majority of the day outdoors\, and bug spray and/or sunscreen if appropriate.\n— ALNC provides a morning and afternoon snack. \nExtended Day available from 8:30-9am and 4-5:30pm at an additional cost. See previous page to register for this separately.   \n \n
URL:https://aldoleopoldnaturecenter.org/event/vacation-day-dip-dip-hooray/
LOCATION:Aldo Leopold Nature Center | Monona Campus\, 330 Femrite Drive\, Monona\, 53716\, United States
CATEGORIES:Vacation Day Programs,Youth Programs
ORGANIZER;CN="Aldo%20Leopold%20Nature%20Center":MAILTO:alnc@aldoleopoldnaturecenter.org
END:VEVENT
END:VCALENDAR