BEGIN:VCALENDAR
VERSION:2.0
PRODID:-//Aldo Leopold Nature Center - ECPv4.8.2//NONSGML v1.0//EN
CALSCALE:GREGORIAN
METHOD:PUBLISH
X-WR-CALNAME:Aldo Leopold Nature Center
X-ORIGINAL-URL:https://aldoleopoldnaturecenter.org
X-WR-CALDESC:Events for Aldo Leopold Nature Center
BEGIN:VEVENT
DTSTART;TZID=America/Chicago:20151006T093000
DTEND;TZID=America/Chicago:20151006T104500
DTSTAMP:20260421T030554
CREATED:20150810T193403Z
LAST-MODIFIED:20150810T193403Z
UID:8074-1444123800-1444128300@aldoleopoldnaturecenter.org
SUMMARY:Wonder Bugs Preschool Program: Lend Me Your Cheers (Tuesday)
DESCRIPTION:And you will hear a wild tale about the natural world.  Come listen to the sounds of the\nworld around us. Games\, crafts\, and more will have you giving three cheers for\nall things wild and free!  Hip\, hip\, hooray!\n\nRegistration ends at midnight the night before a class. Walk-in registrations accepted based off of availability. It is recommended to call ahead of time to ensure space availability at (608)-216-9370. \n$9/Child (ALNC Members save 10%) \n \n
URL:https://aldoleopoldnaturecenter.org/event/wonder-bugs-preschool-program-lend-me-your-cheers-tuesday/
LOCATION:Aldo Leopold Nature Center | Monona Campus\, 330 Femrite Drive\, Monona\, 53716\, United States
CATEGORIES:Wonder Bugs,Wonder Bugs Preschool Program
ORGANIZER;CN="Aldo%20Leopold%20Nature%20Center":MAILTO:alnc@aldoleopoldnaturecenter.org
END:VEVENT
BEGIN:VEVENT
DTSTART;TZID=America/Chicago:20151006T130000
DTEND;TZID=America/Chicago:20151006T150000
DTSTAMP:20260421T030554
CREATED:20150805T155614Z
LAST-MODIFIED:20150805T155614Z
UID:8045-1444136400-1444143600@aldoleopoldnaturecenter.org
SUMMARY:Home School: Nature's Recyclers
DESCRIPTION:We’d be neck-deep in last year’s plant litter if it weren’t for the creepy\, crawly critters we usually overlook!  We’ll turn over logs and dig into the soil to get an up-close view of how nature recycles and reuses its own plant material. \nOnline registration closes at midnight the night before programming. Walk-in registration accepted if space available. Please call ahead to check availability. \n$10/child (ALNC Members save 10%) \n \n  \n  \n  \n  \n
URL:https://aldoleopoldnaturecenter.org/event/home-school-natures-recyclers/
LOCATION:Aldo Leopold Nature Center | Monona Campus\, 330 Femrite Drive\, Monona\, 53716\, United States
CATEGORIES:Homeschool Programs,Youth Programs
ORGANIZER;CN="Aldo%20Leopold%20Nature%20Center":MAILTO:alnc@aldoleopoldnaturecenter.org
END:VEVENT
END:VCALENDAR