BEGIN:VCALENDAR
VERSION:2.0
PRODID:-//Aldo Leopold Nature Center - ECPv4.8.2//NONSGML v1.0//EN
CALSCALE:GREGORIAN
METHOD:PUBLISH
X-WR-CALNAME:Aldo Leopold Nature Center
X-ORIGINAL-URL:https://aldoleopoldnaturecenter.org
X-WR-CALDESC:Events for Aldo Leopold Nature Center
BEGIN:VEVENT
DTSTART;TZID=America/Chicago:20151009T093000
DTEND;TZID=America/Chicago:20151009T104500
DTSTAMP:20260420T213630
CREATED:20150810T193723Z
LAST-MODIFIED:20150810T193723Z
UID:8077-1444383000-1444387500@aldoleopoldnaturecenter.org
SUMMARY:Wonder Bugs Preschool Program: Lend Me Your Cheers (Friday)
DESCRIPTION:And you will hear a wild tale about the natural world.  Come listen to the sounds of the\nworld around us. Games\, crafts\, and more will have you giving three cheers for\nall things wild and free!  Hip\, hip\, hooray!\n\nRegistration ends at midnight the night before a class. Walk-in registrations accepted based off of availability. It is recommended to call ahead of time to ensure space availability at (608)-216-9370. \n$9/Child (ALNC Members save 10%) \n \n
URL:https://aldoleopoldnaturecenter.org/event/wonder-bugs-preschool-program-lend-me-your-cheers-friday/
LOCATION:Aldo Leopold Nature Center | Monona Campus\, 330 Femrite Drive\, Monona\, 53716\, United States
CATEGORIES:Wonder Bugs,Wonder Bugs Preschool Program
ORGANIZER;CN="Aldo%20Leopold%20Nature%20Center":MAILTO:alnc@aldoleopoldnaturecenter.org
END:VEVENT
END:VCALENDAR