BEGIN:VCALENDAR
VERSION:2.0
PRODID:-//Aldo Leopold Nature Center - ECPv4.8.2//NONSGML v1.0//EN
CALSCALE:GREGORIAN
METHOD:PUBLISH
X-WR-CALNAME:Aldo Leopold Nature Center
X-ORIGINAL-URL:https://aldoleopoldnaturecenter.org
X-WR-CALDESC:Events for Aldo Leopold Nature Center
BEGIN:VEVENT
DTSTART;TZID=America/Chicago:20151117T093000
DTEND;TZID=America/Chicago:20151117T104500
DTSTAMP:20260419T133534
CREATED:20150811T152237Z
LAST-MODIFIED:20150811T152237Z
UID:8094-1447752600-1447757100@aldoleopoldnaturecenter.org
SUMMARY:Wonder Bugs Preschool Program: Sing Me a Birdsong (Tuesday)
DESCRIPTION:Chick-a-dee-dee-dee.  You probably know that sound and the little bird that makes it!  Chickadees’ songs fill the air all year long.  Come discover the fascinating world of these black-capped singers. You’ll be happ-y-y-y you joined the throng! \nRegistration ends at midnight the night before a class. Walk-in registrations accepted based off of availability. It is recommended to call ahead of time to ensure space availability at (608)-216-9370. \n$9/Child (ALNC Members save 10%) \n \n
URL:https://aldoleopoldnaturecenter.org/event/wonder-bugs-preschool-program-sing-me-a-birdsong-tuesday/
LOCATION:Aldo Leopold Nature Center | Monona Campus\, 330 Femrite Drive\, Monona\, 53716\, United States
CATEGORIES:Wonder Bugs,Wonder Bugs Preschool Program
ORGANIZER;CN="Aldo%20Leopold%20Nature%20Center":MAILTO:alnc@aldoleopoldnaturecenter.org
END:VEVENT
BEGIN:VEVENT
DTSTART;TZID=America/Chicago:20151117T120000
DTEND;TZID=America/Chicago:20151117T130000
DTSTAMP:20260419T133534
CREATED:20150820T202251Z
LAST-MODIFIED:20150820T202251Z
UID:8159-1447761600-1447765200@aldoleopoldnaturecenter.org
SUMMARY:Vacation Day Add-On: Lunch Bunch
DESCRIPTION:This Lunch Bunch session runs from noon-1pm on Tuesday\, November 17th\, 2015. Attendees spend the first 20-30 minutes eating and listening to a story then get a free choice between a variety of indoor and outdoor options for the remaining time. \nCost: $8/child (ALNC members receive 10% discount)\nPlease send your child with a sack lunch. \n \n
URL:https://aldoleopoldnaturecenter.org/event/vacation-day-add-on-lunch-bunch/
LOCATION:Aldo Leopold Nature Center | Monona Campus\, 330 Femrite Drive\, Monona\, 53716\, United States
CATEGORIES:Vacation Day Programs,Youth Programs
ORGANIZER;CN="Aldo%20Leopold%20Nature%20Center":MAILTO:alnc@aldoleopoldnaturecenter.org
END:VEVENT
BEGIN:VEVENT
DTSTART;TZID=America/Chicago:20151117T130000
DTEND;TZID=America/Chicago:20151117T150000
DTSTAMP:20260419T133534
CREATED:20150805T173010Z
LAST-MODIFIED:20150805T173010Z
UID:8052-1447765200-1447772400@aldoleopoldnaturecenter.org
SUMMARY:Home School: Orienteering
DESCRIPTION:“Put Red in the Shed and follow Fred.”  If you can say this sentence\, you can use a compass!  We’ll learn the parts of a compass\, some basic orienteering techniques\, and test our skills on a compass course. \nOnline registration closes at midnight the night before programming. Walk-in registration accepted if space available. Please call ahead to check availability. \n$10/child (ALNC Members save 10%) \n \n  \n  \n  \n  \n
URL:https://aldoleopoldnaturecenter.org/event/home-school-orienteering/
LOCATION:Aldo Leopold Nature Center | Monona Campus\, 330 Femrite Drive\, Monona\, 53716\, United States
CATEGORIES:Homeschool Programs,Youth Programs
ORGANIZER;CN="Aldo%20Leopold%20Nature%20Center":MAILTO:alnc@aldoleopoldnaturecenter.org
END:VEVENT
BEGIN:VEVENT
DTSTART;TZID=America/Chicago:20151117T130000
DTEND;TZID=America/Chicago:20151117T160000
DTSTAMP:20260419T133534
CREATED:20150820T194045Z
LAST-MODIFIED:20150820T194055Z
UID:8148-1447765200-1447776000@aldoleopoldnaturecenter.org
SUMMARY:Vacation Day: Map Quest!
DESCRIPTION:Come for just the program or join us for lunch bunch and a fun afternoon of adventure.  Join us for an old fashioned treasure hunt! We’ll learn how to read a map and head out to search for hidden treasures spread throughout the ALNC grounds. \nCost: $24/child (10% discount for members) \nAdditional info:\n— Vacation Day programming is designed for ages 5-12. Attendees will be split into groups according to age so material may be adjusted accordingly.\n— Please send your child with an extra set of clothing\, appropriate clothing to spend the majority of the day outdoors\, and bug spray and/or sunscreen if appropriate.\n— ALNC provides a morning and afternoon snack. \nExtended Day available from 4-5:30pm at an additional cost. Lunch Bunch is available from noon-1pm at an additional cost. See previous page to register for either or both of these.   \n \n
URL:https://aldoleopoldnaturecenter.org/event/vacation-day-map-quest/
LOCATION:Aldo Leopold Nature Center | Monona Campus\, 330 Femrite Drive\, Monona\, 53716\, United States
CATEGORIES:Vacation Day Programs,Youth Programs
ORGANIZER;CN="Aldo%20Leopold%20Nature%20Center":MAILTO:alnc@aldoleopoldnaturecenter.org
END:VEVENT
BEGIN:VEVENT
DTSTART;TZID=America/Chicago:20151117T160000
DTEND;TZID=America/Chicago:20151117T173000
DTSTAMP:20260419T133534
CREATED:20150820T200804Z
LAST-MODIFIED:20150820T200858Z
UID:8156-1447776000-1447781400@aldoleopoldnaturecenter.org
SUMMARY:Vacation Day Add-On: Extended Day
DESCRIPTION:This extended day session runs after programming from 4:00-5:30pm on Tuesday\, November 17th\, 2015.  You can pick up at any point within this time period. \nCost: $12/child (ALNC members receive 10% discount) \n \n
URL:https://aldoleopoldnaturecenter.org/event/vacation-day-add-on-extended-day-5/
LOCATION:Aldo Leopold Nature Center | Monona Campus\, 330 Femrite Drive\, Monona\, 53716\, United States
CATEGORIES:Vacation Day Programs,Youth Programs
ORGANIZER;CN="Aldo%20Leopold%20Nature%20Center":MAILTO:alnc@aldoleopoldnaturecenter.org
END:VEVENT
END:VCALENDAR