BEGIN:VCALENDAR
VERSION:2.0
PRODID:-//Aldo Leopold Nature Center - ECPv4.8.2//NONSGML v1.0//EN
CALSCALE:GREGORIAN
METHOD:PUBLISH
X-WR-CALNAME:Aldo Leopold Nature Center
X-ORIGINAL-URL:https://aldoleopoldnaturecenter.org
X-WR-CALDESC:Events for Aldo Leopold Nature Center
BEGIN:VEVENT
DTSTART;TZID=America/Chicago:20161129T093000
DTEND;TZID=America/Chicago:20161129T104500
DTSTAMP:20260421T134803
CREATED:20160803T163754Z
LAST-MODIFIED:20160803T163754Z
UID:9150-1480411800-1480416300@aldoleopoldnaturecenter.org
SUMMARY:Wonder Bugs Preschool Program: Watch Out Meow (Tuesday AM)
DESCRIPTION:…Bobcats are on the prowl. We’ll focus on this feline\, their looks\, and their sounds; cat games\, crafts and songs all around. So pounce on in- you know the way.  You won’t be “short-tailed” today! \nOnline registration ends at midnight the night before a class. Walk-in registrations accepted based off of availability. It is recommended to call ahead of time to ensure space availability at (608)-216-9370. \nFee: $9/Child (ALNC Members save 10%)\nAge: 2-5 years old (Siblings younger than 2 attend at no additional fee) \n \n
URL:https://aldoleopoldnaturecenter.org/event/wonder-bugs-preschool-program-watch-out-meow-tuesday-am/
LOCATION:Aldo Leopold Nature Center | Monona Campus\, 330 Femrite Drive\, Monona\, 53716\, United States
CATEGORIES:Wonder Bugs,Wonder Bugs Preschool Program
ORGANIZER;CN="Aldo%20Leopold%20Nature%20Center":MAILTO:alnc@aldoleopoldnaturecenter.org
END:VEVENT
BEGIN:VEVENT
DTSTART;TZID=America/Chicago:20161112T100000
DTEND;TZID=America/Chicago:20161112T140000
DTSTAMP:20260421T134803
CREATED:20161115T224158Z
LAST-MODIFIED:20161115T224158Z
UID:9666-1478944800-1478959200@aldoleopoldnaturecenter.org
SUMMARY:Blue Marble
DESCRIPTION:Photo Credit: Andrew Jalbert\nFor millennia\, humans have stood on our planet and gazed out at the stars. This month\, we are taking a step back to look at Earth from space – a relatively new concept\, but something many in modern society take for granted. With countless ecosystems\, overwhelming numbers of species\, and billions of people\, it’s easy to think about the seemingly endless resources and the vast differences and diversity that cover our globe. Heading out into space and viewing things from another perspective\, we are reminded that our fragile planet is a little blue marble alone in the vast darkness of our Universe – it’s all we have\, and we’re all in this together! \nVisit ALNC’s exhibits this month to explore this perspective – view satellite data visuals and beautiful imagery in our Immersion Theater and Science on a Sphere and check out other interactive Earth science displays and hands-on activities. Rekindle a deeper appreciation for our living and breathing planet; it is beautiful and fragile\, and it is our home. \n\nOur Pale Blue Dot – Science on a Sphere – Imagine the sense of wonder and astonishment that\, decades ago\, occurred each time a ground-breaking image of Earth was returned from off-world. Humanity has always gazed upward to the stars. Now\, we are finally looking back. This new perspective seems to rekindle a deeper appreciation for our living and breathing planet.\nEarthCast – Kids Climate Cast – Broadcast yourself from around the globe in our green screen studio.\nGoogle Earth – Exhibit Touchscreens –  Explore Earth – zoom in and out and get a new perspective with interactive Google Earth on our dynamic touchscreens!\nWater in the Anthropocene – Current Climate News Kiosk – Evidence is growing that our global footprint is now so significant we have driven Earth into a new geological epoch — the Anthropocene. Human activities such as damming and agriculture are changing the global water cycle in significant ways. This data visualization charts the global impact of humans on the planet.\nBlue Marble Mix-and-Match – Phenology Center – Our planet is an interesting and beautiful place\, marked and shaped by the natural processes around us. As seen from Outer Space\, Earth’s surface carries marks and scars caused by wind\, water\, fire\, and extraterrestrial forces. See how many of these NASA images you can classify!\n\nThe Aldo Leopold Nature Center would like to thank ATC for supporting our monthly exhibit themes. Don’t forget — themes change monthly\, so there is always something new to discover! \n
URL:https://aldoleopoldnaturecenter.org/event/blue-marble-2/2016-11-12/
LOCATION:Aldo Leopold Nature Center | Monona Campus\, 330 Femrite Drive\, Monona\, 53716\, United States
CATEGORIES:Drop-In Programs,Family Activity,Public Programs
ORGANIZER;CN="Aldo%20Leopold%20Nature%20Center":MAILTO:alnc@aldoleopoldnaturecenter.org
END:VEVENT
BEGIN:VEVENT
DTSTART;TZID=America/Chicago:20161129T130000
DTEND;TZID=America/Chicago:20161129T150000
DTSTAMP:20260421T134803
CREATED:20160822T195219Z
LAST-MODIFIED:20160822T195219Z
UID:9221-1480424400-1480431600@aldoleopoldnaturecenter.org
SUMMARY:Home School (Ages 9-14): Gobble Gobble
DESCRIPTION:Calling all Jakes and Jennies—come join us for a very “fowl” afternoon of fun as we celebrate fall by learning all about turkeys.  Learn how (and why) they gobble while practicing your best turkey call\, explore the habit and habitats of wild turkeys and how to identify turkey scat\, tracks\, feathers and more through games\, crafts and outdoor explorations!\n9-14 Year Olds will expand on wildlife population knowledge gained in last week’s session in addition to the above.\n\nFor all sessions\, registration deadline is 48 hours prior to the class. This is done to allow for ALNC to plan for small group sizes and staffing needs.  Please call to inquire about space if planning to drop in\, but realize that space may not be available if less than 48 hours is given.  \n$10/child (ALNC Members save 10%) \n \n  \n  \n  \n  \n
URL:https://aldoleopoldnaturecenter.org/event/home-school-ages-9-14-gobble-gobble/
LOCATION:Aldo Leopold Nature Center | Monona Campus\, 330 Femrite Drive\, Monona\, 53716\, United States
CATEGORIES:Homeschool Programs,Youth Programs
ORGANIZER;CN="Aldo%20Leopold%20Nature%20Center":MAILTO:alnc@aldoleopoldnaturecenter.org
END:VEVENT
BEGIN:VEVENT
DTSTART;TZID=America/Chicago:20161129T130000
DTEND;TZID=America/Chicago:20161129T150000
DTSTAMP:20260421T134803
CREATED:20160822T195320Z
LAST-MODIFIED:20160822T195320Z
UID:9222-1480424400-1480431600@aldoleopoldnaturecenter.org
SUMMARY:Home School (Ages 5-8): Gobble Gobble
DESCRIPTION:Calling all Jakes and Jennies—come join us for a very “fowl” afternoon of fun as we celebrate fall by learning all about turkeys.  Learn how (and why) they gobble while practicing your best turkey call\, explore the habit and habitats of wild turkeys and how to identify turkey scat\, tracks\, feathers and more through games\, crafts and outdoor explorations!\n\nFor all sessions\, registration deadline is 48 hours prior to the class. This is done to allow for ALNC to plan for small group sizes and staffing needs.  Please call to inquire about space if planning to drop in\, but realize that space may not be available if less than 48 hours is given.  \n$10/child (ALNC Members save 10%) \n \n  \n  \n  \n  \n
URL:https://aldoleopoldnaturecenter.org/event/home-school-ages-5-8-gobble-gobble/
LOCATION:Aldo Leopold Nature Center | Monona Campus\, 330 Femrite Drive\, Monona\, 53716\, United States
CATEGORIES:Homeschool Programs,Youth Programs
ORGANIZER;CN="Aldo%20Leopold%20Nature%20Center":MAILTO:alnc@aldoleopoldnaturecenter.org
END:VEVENT
BEGIN:VEVENT
DTSTART;TZID=America/Chicago:20161129T131500
DTEND;TZID=America/Chicago:20161129T143000
DTSTAMP:20260421T134803
CREATED:20160803T164329Z
LAST-MODIFIED:20160803T194757Z
UID:9152-1480425300-1480429800@aldoleopoldnaturecenter.org
SUMMARY:Wonder Bugs Preschool Program: Watch Out Meow (Tuesday PM)
DESCRIPTION:…Bobcats are on the prowl. We’ll focus on this feline\, their looks\, and their sounds; cat games\, crafts and songs all around. So pounce on in- you know the way.  You won’t be “short-tailed” today! \nOnline registration ends at midnight the night before a class. Walk-in registrations accepted based off of availability. It is recommended to call ahead of time to ensure space availability at (608)-216-9370. \nFee: $9/Child (ALNC Members save 10%)\nAge: 2-5 years old (Siblings younger than 2 attend at no additional fee) \n \n
URL:https://aldoleopoldnaturecenter.org/event/wonder-bugs-preschool-program-watch-out-meow-tuesday-pm-2/
LOCATION:Aldo Leopold Nature Center | Monona Campus\, 330 Femrite Drive\, Monona\, 53716\, United States
CATEGORIES:Wonder Bugs,Wonder Bugs Preschool Program
ORGANIZER;CN="Aldo%20Leopold%20Nature%20Center":MAILTO:alnc@aldoleopoldnaturecenter.org
END:VEVENT
END:VCALENDAR