BEGIN:VCALENDAR
VERSION:2.0
PRODID:-//Aldo Leopold Nature Center - ECPv4.8.2//NONSGML v1.0//EN
CALSCALE:GREGORIAN
METHOD:PUBLISH
X-WR-CALNAME:Aldo Leopold Nature Center
X-ORIGINAL-URL:https://aldoleopoldnaturecenter.org
X-WR-CALDESC:Events for Aldo Leopold Nature Center
BEGIN:VEVENT
DTSTART;TZID=America/Chicago:20170102T083000
DTEND;TZID=America/Chicago:20170102T173000
DTSTAMP:20260420T025425
CREATED:20161108T195515Z
LAST-MODIFIED:20161108T195515Z
UID:9578-1483345800-1483378200@aldoleopoldnaturecenter.org
SUMMARY:Vacation Day Add-On: Extended Day
DESCRIPTION:This extended day session runs before programming from 8:30-9am and after programming from 4:00-5:30pm on Monday\, January 2nd\, 2017 in conjunction with the “Wonderful Winter Science” Vacation Day.  You can pick up at any point within these time periods. \nAM and PM Cost: $16/child (ALNC members receive 10% discount)\nAM only: $4/child\nPM only: $12/child \n \n
URL:https://aldoleopoldnaturecenter.org/event/vacation-day-add-on-extended-day-42/
LOCATION:Aldo Leopold Nature Center | Monona Campus\, 330 Femrite Drive\, Monona\, 53716\, United States
CATEGORIES:Vacation Day Programs,Youth Programs
ORGANIZER;CN="Aldo%20Leopold%20Nature%20Center":MAILTO:alnc@aldoleopoldnaturecenter.org
END:VEVENT
BEGIN:VEVENT
DTSTART;TZID=America/Chicago:20170102T090000
DTEND;TZID=America/Chicago:20170102T160000
DTSTAMP:20260420T025425
CREATED:20161108T193210Z
LAST-MODIFIED:20161108T193210Z
UID:9566-1483347600-1483372800@aldoleopoldnaturecenter.org
SUMMARY:Vacation Day: Wonderful Winter Science
DESCRIPTION:Winter is a magical event! Where does snow come from? How does it form? What causes winter? We’ll learn the answers to all of these questions and more through hands-on experiments\, winter exploration\, and\, of course\, some play! What if there’s no snow\, you ask? Then we’ll just have to make our own! \nPlease pack a sack lunch. AM and PM snacks provided. \nCost: $55/child (Members receive 10% discount) \nAdditional info:\n— Vacation Day programming is designed for ages 5-12. Attendees will be split into groups according to age so material may be adjusted accordingly.\n— Please send your child with an extra set of clothing\, appropriate clothing to spend the majority of the day outdoors\, and bug spray and/or sunscreen if appropriate. \nExtended Day is available from 8:30-9am and 4-5:30pm at an additional cost. See previous page to register.   \n \n
URL:https://aldoleopoldnaturecenter.org/event/vacation-day-wonderful-winter-science-2/
LOCATION:Aldo Leopold Nature Center | Monona Campus\, 330 Femrite Drive\, Monona\, 53716\, United States
CATEGORIES:Vacation Day Programs,Youth Programs
ORGANIZER;CN="Aldo%20Leopold%20Nature%20Center":MAILTO:alnc@aldoleopoldnaturecenter.org
END:VEVENT
BEGIN:VEVENT
DTSTART;TZID=America/Chicago:20170102T090000
DTEND;TZID=America/Chicago:20170131T160000
DTSTAMP:20260420T025425
CREATED:20161228T185021Z
LAST-MODIFIED:20170103T210759Z
UID:9891-1483347600-1485878400@aldoleopoldnaturecenter.org
SUMMARY:January in the Exhibits: Corals & Seas
DESCRIPTION: \nWarm up with a trip to the tropics! This month\, plunge into Earth’s beautiful blue waters to learn about the nature of our oceans. Discover important underwater ecosystems and the mysterious organisms that live beneath the surface of the sea. Explore ocean food webs\, coral science\, and how these amazing undersea forests are being affected by climate change and other threats. Dive into our exhibits 7 days a week during January to learn all about Corals & Seas and the relationships between oceans\, climate\, and life on Earth. \nSpecial Programs and Activities Include: \n\nAcidifying Oceans on Science on a Sphere uses datasets and a research scientist to tell the story of how humans are affecting the world’s oceans.\nDive into an Ocean Food Web in our Immersion Theater! Explore a virtual underwater kelp forest to learn about ocean food chains\, from the smallest microbes to the largest animals.\nTouch\, examine\, and learn about the creatures that create beautiful seashells with Shell Sorting in the Nina Leopold Bradley Family Phenology Center.\nInteract with underwater creatures and “swim” on-camera Under the Sea in the Kids’ Climate Cast.\nLearn about ocean ecosystems and rising seas on our Touchscreen Kiosks\, and more!\n\n  \nThe Aldo Leopold Nature Center would like to thank DuPont and ATC for supporting our monthly exhibit themes. Don’t forget — themes change monthly\, so there is always something new to discover! \n
URL:https://aldoleopoldnaturecenter.org/event/january-in-the-exhibits-corals-seas/
LOCATION:Aldo Leopold Nature Center | Monona Campus\, 330 Femrite Drive\, Monona\, 53716\, United States
CATEGORIES:Drop-In Programs,Family Activity,Public Programs
ORGANIZER;CN="Aldo%20Leopold%20Nature%20Center":MAILTO:alnc@aldoleopoldnaturecenter.org
END:VEVENT
END:VCALENDAR