BEGIN:VCALENDAR
VERSION:2.0
PRODID:-//Aldo Leopold Nature Center - ECPv4.8.2//NONSGML v1.0//EN
CALSCALE:GREGORIAN
METHOD:PUBLISH
X-WR-CALNAME:Aldo Leopold Nature Center
X-ORIGINAL-URL:https://aldoleopoldnaturecenter.org
X-WR-CALDESC:Events for Aldo Leopold Nature Center
BEGIN:VEVENT
DTSTART;VALUE=DATE:20170802
DTEND;VALUE=DATE:20170810
DTSTAMP:20260422T014307
CREATED:20170802T202915Z
LAST-MODIFIED:20170802T202915Z
UID:10737-1501632000-1502323199@aldoleopoldnaturecenter.org
SUMMARY:August 2017: Geology Rocks!
DESCRIPTION:Calling all rock hounds! Examine rocks\, minerals & fossils\, study our landscape\, and explore awesome geological features of our planet. \nVisit during our public hours to engage with hands-on exploration stations\, experience interactive theaters\, explore our grounds\, enjoy drop-in self-guided activities\, and discover the world beneath our feet. \nAugust’s special features and activities (free or included in admission): \n\nNina Leopold Bradley Family Phenology Center: Geology Rocks Classification Station\nUse tools and “wild words” to examine\, measure\, describe and classify rocks\, minerals\, and fossils.\nScience on a Sphere: Geology Rocks Playlist\nLearn about the movements of Earth’s crust\, view real-time earthquakes across the globe\, and much more with dynamic Science on a Sphere animations and visuals.\nImmersion Theater: Dig Under the Soil\nExperience the soil\, insects\, microbes\, tree roots\, and the living\, breathing world beneath your feet.\nKids’ Climate Cast: Live from Earth’s Crust!\nGive a report about volcanoes\, earthquakes\, and other exciting activity around Earth’s crust.\nExhibit Touchscreens: Extinction\nOnly a few hundred years ago\, extinction made no sense to anyone. The story of “Extinction” explores advanced geology and touches on why we humans will one day\, too\, be extinct!\nPlus\, ask at the front desk for Geology Scavenger Hunts\, Family Trailside Backpacks\, and more!\n\nWe would like to thank ATC and DuPont for supporting our monthly exhibit themes. There is always something new to discover at ALNC! \n \n
URL:https://aldoleopoldnaturecenter.org/event/august-2017-geology-rocks-2/2017-08-02/
LOCATION:Aldo Leopold Nature Center | Monona Campus\, 330 Femrite Drive\, Monona\, 53716\, United States
CATEGORIES:Drop-In Programs,Family Activity,Public Programs
ORGANIZER;CN="Aldo%20Leopold%20Nature%20Center":MAILTO:alnc@aldoleopoldnaturecenter.org
END:VEVENT
END:VCALENDAR