BEGIN:VCALENDAR
VERSION:2.0
PRODID:-//Aldo Leopold Nature Center - ECPv4.8.2//NONSGML v1.0//EN
CALSCALE:GREGORIAN
METHOD:PUBLISH
X-WR-CALNAME:Aldo Leopold Nature Center
X-ORIGINAL-URL:https://aldoleopoldnaturecenter.org
X-WR-CALDESC:Events for Aldo Leopold Nature Center
BEGIN:VEVENT
DTSTART;VALUE=DATE:20171001
DTEND;VALUE=DATE:20171002
DTSTAMP:20260419T130957
CREATED:20171006T212216Z
LAST-MODIFIED:20171006T212216Z
UID:11038-1506816000-1506902399@aldoleopoldnaturecenter.org
SUMMARY:October 2017: Weather Satellites
DESCRIPTION:From storms to sunshine\, heat waves to natural disasters\, weather rules our world — and weather satellites help us observe and monitor what’s happening at any moment across Earth’s atmosphere\, detecting and observing environmental phenomena that directly affect public safety\, health\, and property. Throughout October\, we’ll be wild about weather and serious about satellites – weather you like it or not\, our exhibits this month will blow you away! \n\nCheck out the “Eyes on the Earth” interactive kiosk in the Immersion Theater to explore how NASA satellites monitor our planet’s vital signs.\nStep inside a storm cloud and learn about the difference between weather and climate in the “Weathering the Storm” in our Immersion Theater.\nLearn about satellites flying around Earth and view dynamic satellite imagery on Science on a Sphere.\nGive a weather report in the Kids’ Climate Cast meteorology TV studio\nUse what you’ve learned to design your own satellite at our activity table.\nPlus\, interactive exhibits\, fall hiking\, and more!\n\nWe would like to thank ATC and DuPont for supporting our monthly exhibit themes. There is always something new to discover at ALNC! \n
URL:https://aldoleopoldnaturecenter.org/event/october-2017-weather-satellites/2017-10-01/
LOCATION:Aldo Leopold Nature Center | Monona Campus\, 330 Femrite Drive\, Monona\, 53716\, United States
CATEGORIES:Drop-In Programs,Family Activity,Public Programs
ORGANIZER;CN="Aldo%20Leopold%20Nature%20Center":MAILTO:alnc@aldoleopoldnaturecenter.org
END:VEVENT
BEGIN:VEVENT
DTSTART;TZID=America/Chicago:20171031T093000
DTEND;TZID=America/Chicago:20171031T104500
DTSTAMP:20260419T130957
CREATED:20170807T161433Z
LAST-MODIFIED:20170807T161433Z
UID:10780-1509442200-1509446700@aldoleopoldnaturecenter.org
SUMMARY:Wonder Bugs Preschool Program: Moon Over My Corn (Tues AM)
DESCRIPTION:The moon at night is big and bright. Deep in the heart of nature! At harvest time it likes to shine. Deep in the heart of nature! Get ready to reap the fun and gather the facts about this delicious time of year! \nNotes:\n— All sessions include indoor and outdoor time. Please bring appropriate outdoor clothing.\n— All sessions include a snack.\n— Online registration ends at midnight the night before a class. Walk-in registrations accepted based off of availability. It is recommended to call ahead of time to ensure space availability at (608) 216-9370.\n— Siblings younger than age two are welcome to attend along with a paid registrant until he/she actively participates and/or consumes snack then he/she must be registered separately. \nFee: $9/Child (ALNC Members save 10%)\nAge: 2-5 years old \n \n
URL:https://aldoleopoldnaturecenter.org/event/wonder-bugs-preschool-program-moon-over-my-corn-tues-am/
LOCATION:Aldo Leopold Nature Center | Monona Campus\, 330 Femrite Drive\, Monona\, 53716\, United States
CATEGORIES:Wonder Bugs,Wonder Bugs Preschool Program
ORGANIZER;CN="Aldo%20Leopold%20Nature%20Center":MAILTO:alnc@aldoleopoldnaturecenter.org
END:VEVENT
BEGIN:VEVENT
DTSTART;TZID=America/Chicago:20171031T130000
DTEND;TZID=America/Chicago:20171031T150000
DTSTAMP:20260419T130957
CREATED:20170807T191228Z
LAST-MODIFIED:20170807T191228Z
UID:10821-1509454800-1509462000@aldoleopoldnaturecenter.org
SUMMARY:Homeschool Program: Bats...Bug Busters!
DESCRIPTION:Registration Deadline: Friday\, October 27\, 2017\n“Bats eat bugs\, they don’t eat people!” Learn the David Stokes song and multiple fun facts about bats. We’ll play a game on bat echolocation\, learn how mother bats find their young in hibernacula\, and one participant will “become” a bat complete with bat adaptations. We’ll also learn how bats are helpful to people and the natural ecosystems they inhabit. \n$10/child (ALNC Members save 10%) \n  \n\n\nHomeschool Ages 5-8\n\n\n\nHomeschool Ages 9-12\n\n\n\n  \n  \n  \n  \n
URL:https://aldoleopoldnaturecenter.org/event/homeschool-program-bats-bug-busters/
LOCATION:Aldo Leopold Nature Center | Monona Campus\, 330 Femrite Drive\, Monona\, 53716\, United States
CATEGORIES:Homeschool Programs,Youth Programs
ORGANIZER;CN="Aldo%20Leopold%20Nature%20Center":MAILTO:alnc@aldoleopoldnaturecenter.org
END:VEVENT
BEGIN:VEVENT
DTSTART;TZID=America/Chicago:20171031T131000
DTEND;TZID=America/Chicago:20171031T143000
DTSTAMP:20260419T130957
CREATED:20170807T161950Z
LAST-MODIFIED:20170807T161950Z
UID:10781-1509455400-1509460200@aldoleopoldnaturecenter.org
SUMMARY:Wonder Bugs Preschool Program: Moon Over My Corn (Tues PM)
DESCRIPTION:The moon at night is big and bright. Deep in the heart of nature! At harvest time it likes to shine. Deep in the heart of nature! Get ready to reap the fun and gather the facts about this delicious time of year! \nNotes:\n— All sessions include indoor and outdoor time. Please bring appropriate outdoor clothing.\n— All sessions include a snack.\n— Online registration ends at midnight the night before a class. Walk-in registrations accepted based off of availability. It is recommended to call ahead of time to ensure space availability at (608) 216-9370.\n— Siblings younger than age two are welcome to attend along with a paid registrant until he/she actively participates and/or consumes snack then he/she must be registered separately. \nFee: $9/Child (ALNC Members save 10%)\nAge: 2-5 years old \n \n
URL:https://aldoleopoldnaturecenter.org/event/wonder-bugs-preschool-program-moon-over-my-corn-tues-pm/
LOCATION:Aldo Leopold Nature Center | Monona Campus\, 330 Femrite Drive\, Monona\, 53716\, United States
CATEGORIES:Wonder Bugs,Wonder Bugs Preschool Program
ORGANIZER;CN="Aldo%20Leopold%20Nature%20Center":MAILTO:alnc@aldoleopoldnaturecenter.org
END:VEVENT
END:VCALENDAR