BEGIN:VCALENDAR
VERSION:2.0
PRODID:-//Aldo Leopold Nature Center - ECPv4.8.2//NONSGML v1.0//EN
CALSCALE:GREGORIAN
METHOD:PUBLISH
X-WR-CALNAME:Aldo Leopold Nature Center
X-ORIGINAL-URL:https://aldoleopoldnaturecenter.org
X-WR-CALDESC:Events for Aldo Leopold Nature Center
BEGIN:VEVENT
DTSTART;VALUE=DATE:20171101
DTEND;VALUE=DATE:20171102
DTSTAMP:20260422T223825
CREATED:20171031T195551Z
LAST-MODIFIED:20171031T210940Z
UID:11136-1509494400-1509580799@aldoleopoldnaturecenter.org
SUMMARY:November 2017: Blue Marble
DESCRIPTION: \nFor millennia\, humans have stood on our planet\, gazed outwards\, and pondered the seemingly endless resources and vast diversity that cover our globe. This month\, take a giant step forward to look back down at our planet. Heading out into Space to view Earth from this uniquely modern perspective\, we are reminded that we live on a fragile blue marble alone in the vast darkness of our Universe – it’s all we have\, and we’re in this together! \nVisit during our public hours this month to view satellite imagery and interactive data in our immersive theaters\, check out Earth science displays\, and enjoy drop-in self-guided hands-on activities. Rekindle a deeper appreciation for our living breathing planet; it’s beautiful and fragile\, and it is our home. \n\nOur Pale Blue Dot – Science on a Sphere: Imagine the sense of astonishment that\, decades ago\, occurred each time a ground-breaking image of Earth was returned from off-world. Humanity has always gazed upward to the stars. Now\, in this SOS short film\, we are able to look back with a new perspective and deeper appreciation for our planet. \nNASA Eyes on the Earth – Immersion Theater: Explore this interactive NASA kiosk in our wrap-around theater to see how satellites monitor our planet’s vital signs.\nWater in the Anthropocene – Current Climate News Kiosk: Evidence is growing that humans’ global footprint is now so significant we have driven Earth into a new geological epoch — the Anthropocene. This data visualization charts the impact of humans on the planet.\nBlue Marble Mix-and-Match – Family Phenology Center: Our beautiful planet is shaped by the processes around us. As seen from Outer Space\, Earth’s surface carries marks and scars caused by wind\, water\, fire\, and extraterrestrial forces. See if you can match these NASA images with the category in which they belong!\n\nWe would like to thank ATC and DuPont for supporting our monthly exhibit themes. There is always something new to discover at ALNC! \n
URL:https://aldoleopoldnaturecenter.org/event/november-2017-blue-marble/2017-11-01/
LOCATION:Aldo Leopold Nature Center | Monona Campus\, 330 Femrite Drive\, Monona\, 53716\, United States
CATEGORIES:Drop-In Programs,Family Activity,Public Programs
ORGANIZER;CN="Aldo%20Leopold%20Nature%20Center":MAILTO:alnc@aldoleopoldnaturecenter.org
END:VEVENT
BEGIN:VEVENT
DTSTART;TZID=America/Chicago:20171110T093000
DTEND;TZID=America/Chicago:20171110T104500
DTSTAMP:20260422T223825
CREATED:20170807T163452Z
LAST-MODIFIED:20171101T192649Z
UID:10789-1510306200-1510310700@aldoleopoldnaturecenter.org
SUMMARY:Wonder Bugs Preschool Program: By the Light of the... (Fri AM)
DESCRIPTION:…Beaver Moon. Furs and trapping. Don’t get caught napping. Singing\, playing. Are the traders paying? Fun while learning. Today will keep you yearning! For all things beaver and more! \nNotes:\n— All sessions include indoor and outdoor time. Please bring appropriate outdoor clothing.\n— All sessions include a snack.\n– For all sessions\, registration deadline is 24 hours prior to the program. For more information or to register by phone\, call 608-221-0404 x 1. Please call to inquire about space if planning to drop in or if less than 24 hours prior.\n— Siblings younger than age two are welcome to attend along with a paid registrant until he/she actively participates and/or consumes snack then he/she must be registered separately. \nFee: $9/Child (ALNC Members save 10%)\nAge: 2-5 years old \n \n
URL:https://aldoleopoldnaturecenter.org/event/wonder-bugs-preschool-program-by-the-light-of-the-fri-am/
LOCATION:Aldo Leopold Nature Center | Monona Campus\, 330 Femrite Drive\, Monona\, 53716\, United States
CATEGORIES:Wonder Bugs,Wonder Bugs Preschool Program
ORGANIZER;CN="Aldo%20Leopold%20Nature%20Center":MAILTO:alnc@aldoleopoldnaturecenter.org
END:VEVENT
BEGIN:VEVENT
DTSTART;TZID=America/Chicago:20171110T110000
DTEND;TZID=America/Chicago:20171110T160000
DTSTAMP:20260422T223825
CREATED:20170828T173509Z
LAST-MODIFIED:20171108T180827Z
UID:10919-1510311600-1510329600@aldoleopoldnaturecenter.org
SUMMARY:Vacation Day: Operation Migration
DESCRIPTION:Many animals migrate with the change of seasons and fall is a great time to catch these animals in the act! We’ll learn all about fall migrators\, learn how they know how to find their destination and when to leave. We’ll also learn about other animals that hibernate or adapt in other ways to prepare for the upcoming winter. \nCost: $40/child for part day (11am-4pm) \nPlease pack a sack lunch. PM snacks provided. \nAdditional info:\n— Vacation Day programming is designed for ages 5-12. Attendees will be split into groups according to age so material may be adjusted accordingly.\n— Please send your child with appropriate clothing to spend the majority of the day outdoors and bug spray and/or sunscreen if appropriate. \nExtended Day is available from 4-5:30pm at an additional cost. Please click here to register.  \n \n
URL:https://aldoleopoldnaturecenter.org/event/vacation-day-operation-migration-2/
LOCATION:Aldo Leopold Nature Center | Monona Campus\, 330 Femrite Drive\, Monona\, 53716\, United States
CATEGORIES:Vacation Day Programs,Youth Programs
ORGANIZER;CN="Aldo%20Leopold%20Nature%20Center":MAILTO:alnc@aldoleopoldnaturecenter.org
END:VEVENT
END:VCALENDAR