BEGIN:VCALENDAR
VERSION:2.0
PRODID:-//Aldo Leopold Nature Center - ECPv4.8.2//NONSGML v1.0//EN
CALSCALE:GREGORIAN
METHOD:PUBLISH
X-WR-CALNAME:Aldo Leopold Nature Center
X-ORIGINAL-URL:https://aldoleopoldnaturecenter.org
X-WR-CALDESC:Events for Aldo Leopold Nature Center
BEGIN:VEVENT
DTSTART;TZID=America/Chicago:20181109T093000
DTEND;TZID=America/Chicago:20181109T104500
DTSTAMP:20260421T173506
CREATED:20180803T192526Z
LAST-MODIFIED:20180808T200239Z
UID:11981-1541755800-1541760300@aldoleopoldnaturecenter.org
SUMMARY:Wonder Bugs Preschool Program: Sing Me A Birdsong (Fri AM)
DESCRIPTION:Chick-a-dee-dee-dee. You probably know that sound and the little bird that makes it! Chickadees’ songs fill the air all year long. Come discover the fascinating world of these black-capped singers. You’ll be happ-y-y-y you joined the throng! \nNotes:\n— All sessions include indoor and outdoor time. Please bring appropriate outdoor clothing.\n— All sessions include a snack.\n– For all sessions\, registration deadline is 24 hours prior to the program. For more information or to register by phone\, call 608-221-0404 x 1. Please call to inquire about space if planning to drop in or if less than 24 hours prior.\n— Siblings younger than age two are welcome to attend along with a paid registrant until he/she actively participates and/or consumes snack then he/she must be registered separately. \nFee: $10/Child (ALNC Members save 10%)\nAge: 2-5 years old \n \n
URL:https://aldoleopoldnaturecenter.org/event/wonder-bugs-preschool-program-sing-me-a-birdsong-fri-am/
LOCATION:Aldo Leopold Nature Center | Monona Campus\, 330 Femrite Drive\, Monona\, 53716\, United States
CATEGORIES:Wonder Bugs,Wonder Bugs Preschool Program,Youth Programs
ORGANIZER;CN="Aldo%20Leopold%20Nature%20Center":MAILTO:alnc@aldoleopoldnaturecenter.org
END:VEVENT
BEGIN:VEVENT
DTSTART;TZID=America/Chicago:20181109T130000
DTEND;TZID=America/Chicago:20181109T160000
DTSTAMP:20260421T173506
CREATED:20180817T141400Z
LAST-MODIFIED:20180817T141816Z
UID:12053-1541768400-1541779200@aldoleopoldnaturecenter.org
SUMMARY:Vacation Day: Blowing in the Wind (MMSD Early Release)
DESCRIPTION:Fall breezes are here bringing cooler weather and tossing colorful leaves all around ALNC! We will spend the day observing our fall weather with meteorological tools\, crafting art from fallen leaves\, creating our very own pinwheels\, collecting native seeds to scatter across our prairie\, and much more! \nCost: $26/child for 3 hours (1pm-4pm) \nPlease pack a sack lunch if signed up for Lunch Bunch. PM snacks provided. \nAdditional info:\n— Vacation Day programming is designed for ages 5-12. Attendees will be split into groups according to age so material may be adjusted accordingly.\n— Please send your child with appropriate clothing to spend the majority of the day outdoors and bug spray and/or sunscreen if appropriate. \nLunch and Extended Day are available from 12-1pm and 4-5:30pm for an additional cost.  \nClick here to register for Lunch. \nClick here to register for Extended Day. \n \n
URL:https://aldoleopoldnaturecenter.org/event/vacation-day-blowing-in-the-wind-mmsd-early-release/
LOCATION:Aldo Leopold Nature Center | Monona Campus\, 330 Femrite Drive\, Monona\, 53716\, United States
CATEGORIES:Vacation Day Programs,Youth Programs
ORGANIZER;CN="Aldo%20Leopold%20Nature%20Center":MAILTO:alnc@aldoleopoldnaturecenter.org
END:VEVENT
END:VCALENDAR