BEGIN:VCALENDAR
VERSION:2.0
PRODID:-//Aldo Leopold Nature Center - ECPv4.8.2//NONSGML v1.0//EN
CALSCALE:GREGORIAN
METHOD:PUBLISH
X-WR-CALNAME:Aldo Leopold Nature Center
X-ORIGINAL-URL:https://aldoleopoldnaturecenter.org
X-WR-CALDESC:Events for Aldo Leopold Nature Center
BEGIN:VEVENT
DTSTART;TZID=America/Chicago:20181113T093000
DTEND;TZID=America/Chicago:20181113T104500
DTSTAMP:20260422T035140
CREATED:20180803T192720Z
LAST-MODIFIED:20180803T192720Z
UID:11982-1542101400-1542105900@aldoleopoldnaturecenter.org
SUMMARY:Wonder Bugs Preschool Program: Something is Rotten (Tues AM)
DESCRIPTION:Don’t be alarmed! It’s not your leftover lunch. It’s a rotting log! This decomposing treat is home to critters large and small. Discover this putrid part of the life cycle of trees. You’ll be spoiled! \nNotes:\n— All sessions include indoor and outdoor time. Please bring appropriate outdoor clothing.\n— All sessions include a snack.\n– For all sessions\, registration deadline is 24 hours prior to the program. For more information or to register by phone\, call 608-221-0404 x 1. Please call to inquire about space if planning to drop in or if less than 24 hours prior.\n— Siblings younger than age two are welcome to attend along with a paid registrant until he/she actively participates and/or consumes snack then he/she must be registered separately. \nFee: $10/Child (ALNC Members save 10%)\nAge: 2-5 years old \n \n
URL:https://aldoleopoldnaturecenter.org/event/wonder-bugs-preschool-program-something-is-rotten-tues-am/
LOCATION:Aldo Leopold Nature Center | Monona Campus\, 330 Femrite Drive\, Monona\, 53716\, United States
CATEGORIES:Wonder Bugs,Wonder Bugs Preschool Program,Youth Programs
ORGANIZER;CN="Aldo%20Leopold%20Nature%20Center":MAILTO:alnc@aldoleopoldnaturecenter.org
END:VEVENT
BEGIN:VEVENT
DTSTART;TZID=America/Chicago:20181113T130000
DTEND;TZID=America/Chicago:20181113T150000
DTSTAMP:20260422T035140
CREATED:20180727T223818Z
LAST-MODIFIED:20181112T164626Z
UID:11900-1542114000-1542121200@aldoleopoldnaturecenter.org
SUMMARY:Homeschool Program: What's the Weather Like?
DESCRIPTION:Registration Deadline: Friday\, November 9\, 2018\nToday\, the temperature will be 45 degrees and there is a strong chance of some snow overnight. How do weather forecasters know what the weather will be like? We will get a chance to learn about weather and how people and animals are influenced by weather.\n$12/child (ALNC Members save 10%) \nFor all sessions\, registration deadline is the Friday prior to the class. This is done to allow for ALNC to plan for group sizes and staffing needs. You may call to inquire about availability after registration closes\, but realize that space may not be available. \n  \n\n\nHomeschool Ages 5-8\n \n\n\nHomeschool Ages 9-12\n \n\n\n  \n  \n  \n  \n
URL:https://aldoleopoldnaturecenter.org/event/homeschool-program-whats-the-weather-like/
LOCATION:Aldo Leopold Nature Center | Monona Campus\, 330 Femrite Drive\, Monona\, 53716\, United States
CATEGORIES:Homeschool Programs,Youth Programs
ORGANIZER;CN="Aldo%20Leopold%20Nature%20Center":MAILTO:alnc@aldoleopoldnaturecenter.org
END:VEVENT
BEGIN:VEVENT
DTSTART;TZID=America/Chicago:20181113T131500
DTEND;TZID=America/Chicago:20181113T143000
DTSTAMP:20260422T035140
CREATED:20180803T192831Z
LAST-MODIFIED:20180803T192831Z
UID:11983-1542114900-1542119400@aldoleopoldnaturecenter.org
SUMMARY:Wonder Bugs Preschool Program: Something is Rotten (Tues PM)
DESCRIPTION:Don’t be alarmed! It’s not your leftover lunch. It’s a rotting log! This decomposing treat is home to critters large and small. Discover this putrid part of the life cycle of trees. You’ll be spoiled! \nNotes:\n— All sessions include indoor and outdoor time. Please bring appropriate outdoor clothing.\n— All sessions include a snack.\n– For all sessions\, registration deadline is 24 hours prior to the program. For more information or to register by phone\, call 608-221-0404 x 1. Please call to inquire about space if planning to drop in or if less than 24 hours prior.\n— Siblings younger than age two are welcome to attend along with a paid registrant until he/she actively participates and/or consumes snack then he/she must be registered separately. \nFee: $10/Child (ALNC Members save 10%)\nAge: 2-5 years old \n \n
URL:https://aldoleopoldnaturecenter.org/event/wonder-bugs-preschool-program-something-is-rotten-tues-pm/
LOCATION:Aldo Leopold Nature Center | Monona Campus\, 330 Femrite Drive\, Monona\, 53716\, United States
CATEGORIES:Wonder Bugs,Wonder Bugs Preschool Program,Youth Programs
ORGANIZER;CN="Aldo%20Leopold%20Nature%20Center":MAILTO:alnc@aldoleopoldnaturecenter.org
END:VEVENT
END:VCALENDAR