BEGIN:VCALENDAR
VERSION:2.0
PRODID:-//Aldo Leopold Nature Center - ECPv4.8.2//NONSGML v1.0//EN
CALSCALE:GREGORIAN
METHOD:PUBLISH
X-WR-CALNAME:Aldo Leopold Nature Center
X-ORIGINAL-URL:https://aldoleopoldnaturecenter.org
X-WR-CALDESC:Events for Aldo Leopold Nature Center
BEGIN:VEVENT
DTSTART;TZID=America/Chicago:20181121T090000
DTEND;TZID=America/Chicago:20181121T160000
DTSTAMP:20260419T153456
CREATED:20180817T142411Z
LAST-MODIFIED:20181015T181952Z
UID:12055-1542790800-1542816000@aldoleopoldnaturecenter.org
SUMMARY:Vacation Day: Gobble Gobble (MGSD & MMSD)
DESCRIPTION:Calling all Jakes and Jennys!  Come join us for a very “fowl” morning of fun as we learn all about turkeys.  Learn how (and why) they to gobble\, explore the habit and habitats of wild turkey\, and how to identify turkey scat through fun games\, crafts and outdoor explorations. \nCost: $60/child for full day (9am-4pm) \nPlease pack a sack lunch. AM and PM snacks provided. \nAdditional info:\n— Vacation Day programming is designed for ages 5-12. Attendees will be split into groups according to age so material may be adjusted accordingly.\n— Please send your child with appropriate clothing to spend the majority of the day outdoors and bug spray and/or sunscreen if appropriate. \nExtended Day is available from 8 to 9 am and 4 to 5:30 pm for an additional cost. Click here to register for Extended Day.  \n \n
URL:https://aldoleopoldnaturecenter.org/event/vacation-day-gobble-gobble/
LOCATION:Aldo Leopold Nature Center | Monona Campus\, 330 Femrite Drive\, Monona\, 53716\, United States
CATEGORIES:Vacation Day Programs,Youth Programs
ORGANIZER;CN="Aldo%20Leopold%20Nature%20Center":MAILTO:alnc@aldoleopoldnaturecenter.org
END:VEVENT
BEGIN:VEVENT
DTSTART;TZID=America/Chicago:20181121T093000
DTEND;TZID=America/Chicago:20181121T104500
DTSTAMP:20260419T153456
CREATED:20180803T195738Z
LAST-MODIFIED:20180803T195738Z
UID:11989-1542792600-1542797100@aldoleopoldnaturecenter.org
SUMMARY:Wonder Bugs Preschool Program: GALL-EEE! (Wed AM)
DESCRIPTION:A larva parasitized me! Come uncover the appalling world of galls! But don’t let them rub you the wrong way; we’ll discover why galls really are important. It’s a fascinating world of insect survival!! \nNotes:\n— All sessions include indoor and outdoor time. Please bring appropriate outdoor clothing.\n— All sessions include a snack.\n– For all sessions\, registration deadline is 24 hours prior to the program. For more information or to register by phone\, call 608-221-0404 x 1. Please call to inquire about space if planning to drop in or if less than 24 hours prior.\n— Siblings younger than age two are welcome to attend along with a paid registrant until he/she actively participates and/or consumes snack then he/she must be registered separately. \nFee: $10/Child (ALNC Members save 10%)\nAge: 2-5 years old \n \n
URL:https://aldoleopoldnaturecenter.org/event/wonder-bugs-preschool-program-gall-eee-wed-am/
LOCATION:Aldo Leopold Nature Center | Monona Campus\, 330 Femrite Drive\, Monona\, 53716\, United States
CATEGORIES:Wonder Bugs,Wonder Bugs Preschool Program,Youth Programs
ORGANIZER;CN="Aldo%20Leopold%20Nature%20Center":MAILTO:alnc@aldoleopoldnaturecenter.org
END:VEVENT
END:VCALENDAR