BEGIN:VCALENDAR
VERSION:2.0
PRODID:-//Aldo Leopold Nature Center - ECPv4.8.2//NONSGML v1.0//EN
CALSCALE:GREGORIAN
METHOD:PUBLISH
X-WR-CALNAME:Aldo Leopold Nature Center
X-ORIGINAL-URL:https://aldoleopoldnaturecenter.org
X-WR-CALDESC:Events for Aldo Leopold Nature Center
BEGIN:VEVENT
DTSTART;TZID=America/Chicago:20181127T093000
DTEND;TZID=America/Chicago:20181127T104500
DTSTAMP:20260421T191419
CREATED:20180803T200103Z
LAST-MODIFIED:20180803T200103Z
UID:11990-1543311000-1543315500@aldoleopoldnaturecenter.org
SUMMARY:Wonder Bugs Preschool Program: Lend Me Your Cheers (Tues AM)
DESCRIPTION:And you will hear a wild tale about the natural world. Come listen to the sounds of the world around us. Games\, crafts\, and more will have you giving three cheers for all things wild and free! Hip\, hip\, hooray! \nNotes:\n— All sessions include indoor and outdoor time. Please bring appropriate outdoor clothing.\n— All sessions include a snack.\n– For all sessions\, registration deadline is 24 hours prior to the program. For more information or to register by phone\, call 608-221-0404 x 1. Please call to inquire about space if planning to drop in or if less than 24 hours prior.\n— Siblings younger than age two are welcome to attend along with a paid registrant until he/she actively participates and/or consumes snack then he/she must be registered separately. \nFee: $10/Child (ALNC Members save 10%)\nAge: 2-5 years old \n \n
URL:https://aldoleopoldnaturecenter.org/event/wonder-bugs-preschool-program-lend-me-your-cheers-tues-am/
LOCATION:Aldo Leopold Nature Center | Monona Campus\, 330 Femrite Drive\, Monona\, 53716\, United States
CATEGORIES:Wonder Bugs,Wonder Bugs Preschool Program,Youth Programs
ORGANIZER;CN="Aldo%20Leopold%20Nature%20Center":MAILTO:alnc@aldoleopoldnaturecenter.org
END:VEVENT
BEGIN:VEVENT
DTSTART;TZID=America/Chicago:20181127T130000
DTEND;TZID=America/Chicago:20181127T150000
DTSTAMP:20260421T191419
CREATED:20180727T224221Z
LAST-MODIFIED:20180727T224221Z
UID:11902-1543323600-1543330800@aldoleopoldnaturecenter.org
SUMMARY:Homeschool Program: Orienteering
DESCRIPTION:Registration Deadline: Friday\, November 23\, 2018\n“Put Red in the Shed and follow Fred.” If you can say this sentence\, you can use a compass! We’ll learn the parts of a compass\, some basic orienteering techniques\, and test our skills on a compass course.   \n$12/child (ALNC Members save 10%) \nFor all sessions\, registration deadline is the Friday prior to the class. This is done to allow for ALNC to plan for group sizes and staffing needs. You may call to inquire about availability after registration closes\, but realize that space may not be available. \n  \n\n\nHomeschool Ages 5-8\n \n\n\nHomeschool Ages 9-12\n \n\n\n  \n  \n  \n  \n
URL:https://aldoleopoldnaturecenter.org/event/homeschool-program-orienteering/
LOCATION:Aldo Leopold Nature Center | Monona Campus\, 330 Femrite Drive\, Monona\, 53716\, United States
CATEGORIES:Homeschool Programs,Youth Programs
ORGANIZER;CN="Aldo%20Leopold%20Nature%20Center":MAILTO:alnc@aldoleopoldnaturecenter.org
END:VEVENT
BEGIN:VEVENT
DTSTART;TZID=America/Chicago:20181127T131500
DTEND;TZID=America/Chicago:20181127T143000
DTSTAMP:20260421T191419
CREATED:20180803T200325Z
LAST-MODIFIED:20180803T200325Z
UID:11991-1543324500-1543329000@aldoleopoldnaturecenter.org
SUMMARY:Wonder Bugs Preschool Program: Lend Me Your Cheers (Tues PM)
DESCRIPTION:And you will hear a wild tale about the natural world. Come listen to the sounds of the world around us. Games\, crafts\, and more will have you giving three cheers for all things wild and free! Hip\, hip\, hooray! \nNotes:\n— All sessions include indoor and outdoor time. Please bring appropriate outdoor clothing.\n— All sessions include a snack.\n– For all sessions\, registration deadline is 24 hours prior to the program. For more information or to register by phone\, call 608-221-0404 x 1. Please call to inquire about space if planning to drop in or if less than 24 hours prior.\n— Siblings younger than age two are welcome to attend along with a paid registrant until he/she actively participates and/or consumes snack then he/she must be registered separately. \nFee: $10/Child (ALNC Members save 10%)\nAge: 2-5 years old \n \n
URL:https://aldoleopoldnaturecenter.org/event/wonder-bugs-preschool-program-lend-me-your-cheers-tues-pm/
LOCATION:Aldo Leopold Nature Center | Monona Campus\, 330 Femrite Drive\, Monona\, 53716\, United States
CATEGORIES:Wonder Bugs,Wonder Bugs Preschool Program,Youth Programs
ORGANIZER;CN="Aldo%20Leopold%20Nature%20Center":MAILTO:alnc@aldoleopoldnaturecenter.org
END:VEVENT
END:VCALENDAR