BEGIN:VCALENDAR
VERSION:2.0
PRODID:-//Aldo Leopold Nature Center - ECPv4.8.2//NONSGML v1.0//EN
CALSCALE:GREGORIAN
METHOD:PUBLISH
X-WR-CALNAME:Aldo Leopold Nature Center
X-ORIGINAL-URL:https://aldoleopoldnaturecenter.org
X-WR-CALDESC:Events for Aldo Leopold Nature Center
BEGIN:VEVENT
DTSTART;TZID=America/Chicago:20181211T093000
DTEND;TZID=America/Chicago:20181211T104500
DTSTAMP:20260420T025618
CREATED:20181112T144545Z
LAST-MODIFIED:20181112T144545Z
UID:12194-1544520600-1544525100@aldoleopoldnaturecenter.org
SUMMARY:Wonder Bugs Preschool Program: Mighty Mice (Tues AM)
DESCRIPTION:Squeak\, squeak\, squeak! Let’s shrink into the world of mice to explore the world from their perspective. From the tip of their tails to the tops of their ears\, we’ll learn all about these tiny timid creatures. \nNotes:\n— All sessions include indoor and outdoor time. Please bring appropriate outdoor clothing.\n— All sessions include a snack.\n– For all sessions\, registration deadline is 24 hours prior to the program. For more information or to register by phone\, call 608-221-0404 x 1. Please call to inquire about space if planning to drop in or if less than 24 hours prior.\n— Siblings younger than age two are welcome to attend along with a paid registrant until he/she actively participates and/or consumes snack then he/she must be registered separately. \nFee: $10/Child (ALNC Members save 10%)\nAge: 2-5 years old \n \n
URL:https://aldoleopoldnaturecenter.org/event/wonder-bugs-preschool-program-mighty-mice-tues-am/
LOCATION:Aldo Leopold Nature Center | Monona Campus\, 330 Femrite Drive\, Monona\, 53716\, United States
CATEGORIES:Wonder Bugs,Wonder Bugs Preschool Program,Youth Programs
ORGANIZER;CN="Aldo%20Leopold%20Nature%20Center":MAILTO:alnc@aldoleopoldnaturecenter.org
END:VEVENT
BEGIN:VEVENT
DTSTART;TZID=America/Chicago:20181211T130000
DTEND;TZID=America/Chicago:20181211T150000
DTSTAMP:20260420T025618
CREATED:20180727T224604Z
LAST-MODIFIED:20180727T224604Z
UID:11904-1544533200-1544540400@aldoleopoldnaturecenter.org
SUMMARY:Homeschool Program: Wisconsin's Native American Cultures
DESCRIPTION:Registration Deadline: Friday\, December 7\, 2018\nTake a trip back in time to see how Native Americans lived long ago! We’ll explore artifacts used as tools and learn how nature was the grocery store\, pharmacy\, and hardware store to Native Americans. We’ll also hike to a burial mound and learn how and why these land forms were made.     \n$12/child (ALNC Members save 10%) \nFor all sessions\, registration deadline is the Friday prior to the class. This is done to allow for ALNC to plan for group sizes and staffing needs. You may call to inquire about availability after registration closes\, but realize that space may not be available. \n  \n\n\nHomeschool Ages 5-8\n \n\n\nHomeschool Ages 9-12\n \n\n\n  \n  \n  \n  \n
URL:https://aldoleopoldnaturecenter.org/event/homeschool-program-wisconsins-native-american-cultures/
LOCATION:Aldo Leopold Nature Center | Monona Campus\, 330 Femrite Drive\, Monona\, 53716\, United States
CATEGORIES:Homeschool Programs,Youth Programs
ORGANIZER;CN="Aldo%20Leopold%20Nature%20Center":MAILTO:alnc@aldoleopoldnaturecenter.org
END:VEVENT
BEGIN:VEVENT
DTSTART;TZID=America/Chicago:20181211T131500
DTEND;TZID=America/Chicago:20181211T143000
DTSTAMP:20260420T025618
CREATED:20181112T144906Z
LAST-MODIFIED:20181112T144906Z
UID:12195-1544534100-1544538600@aldoleopoldnaturecenter.org
SUMMARY:Wonder Bugs Preschool Program: Mighty Mice (Tues PM)
DESCRIPTION:Squeak\, squeak\, squeak! Let’s shrink into the world of mice to explore the world from their perspective. From the tip of their tails to the tops of their ears\, we’ll learn all about these tiny timid creatures. \nNotes:\n— All sessions include indoor and outdoor time. Please bring appropriate outdoor clothing.\n— All sessions include a snack.\n– For all sessions\, registration deadline is 24 hours prior to the program. For more information or to register by phone\, call 608-221-0404 x 1. Please call to inquire about space if planning to drop in or if less than 24 hours prior.\n— Siblings younger than age two are welcome to attend along with a paid registrant until he/she actively participates and/or consumes snack then he/she must be registered separately. \nFee: $10/Child (ALNC Members save 10%)\nAge: 2-5 years old \n \n
URL:https://aldoleopoldnaturecenter.org/event/wonder-bugs-preschool-program-mighty-mice-tues-pm/
LOCATION:Aldo Leopold Nature Center | Monona Campus\, 330 Femrite Drive\, Monona\, 53716\, United States
CATEGORIES:Wonder Bugs,Wonder Bugs Preschool Program,Youth Programs
ORGANIZER;CN="Aldo%20Leopold%20Nature%20Center":MAILTO:alnc@aldoleopoldnaturecenter.org
END:VEVENT
END:VCALENDAR