BEGIN:VCALENDAR
VERSION:2.0
PRODID:-//Aldo Leopold Nature Center - ECPv4.8.2//NONSGML v1.0//EN
CALSCALE:GREGORIAN
METHOD:PUBLISH
X-WR-CALNAME:Aldo Leopold Nature Center
X-ORIGINAL-URL:https://aldoleopoldnaturecenter.org
X-WR-CALDESC:Events for Aldo Leopold Nature Center
BEGIN:VEVENT
DTSTART;TZID=America/Chicago:20181218T093000
DTEND;TZID=America/Chicago:20181218T104500
DTSTAMP:20260420T025545
CREATED:20181112T184315Z
LAST-MODIFIED:20181112T184315Z
UID:12249-1545125400-1545129900@aldoleopoldnaturecenter.org
SUMMARY:Wonder Bugs Preschool Program: Winter Solstice (Tues AM)
DESCRIPTION:Let’s celebrate the shortest day(light) of the year in anticipation of longer and brighter days. Come join the festivities and explore nature-ful traditions and customs. Don’t be left in the dark! \nNotes:\n— All sessions include indoor and outdoor time. Please bring appropriate outdoor clothing.\n— All sessions include a snack.\n– For all sessions\, registration deadline is 24 hours prior to the program. For more information or to register by phone\, call 608-221-0404 x 1. Please call to inquire about space if planning to drop in or if less than 24 hours prior.\n— Siblings younger than age two are welcome to attend along with a paid registrant until he/she actively participates and/or consumes snack then he/she must be registered separately. \nFee: $10/Child (ALNC Members save 10%)\nAge: 2-5 years old \n \n
URL:https://aldoleopoldnaturecenter.org/event/wonder-bugs-preschool-program-winter-solstice-tues-am/
LOCATION:Aldo Leopold Nature Center | Monona Campus\, 330 Femrite Drive\, Monona\, 53716\, United States
CATEGORIES:Wonder Bugs,Wonder Bugs Preschool Program,Youth Programs
ORGANIZER;CN="Aldo%20Leopold%20Nature%20Center":MAILTO:alnc@aldoleopoldnaturecenter.org
END:VEVENT
BEGIN:VEVENT
DTSTART;TZID=America/Chicago:20181218T130000
DTEND;TZID=America/Chicago:20181218T150000
DTSTAMP:20260420T025545
CREATED:20180727T224750Z
LAST-MODIFIED:20180727T224750Z
UID:11905-1545138000-1545145200@aldoleopoldnaturecenter.org
SUMMARY:Homeschool Program: Changes Over Time
DESCRIPTION:Registration Deadline: Friday\, December 14\, 2018\nThe Earth is constantly changing and scientists have made observations of these changes over many years. We will learn the difference between short-term and long-term changes\, such as climate and animal adaptations. We’ll visit the “Children’s Shack” to observe changes in people’s lifestyles and record our observations to create our own records to study. \n$12/child (ALNC Members save 10%) \nFor all sessions\, registration deadline is the Friday prior to the class. This is done to allow for ALNC to plan for group sizes and staffing needs. You may call to inquire about availability after registration closes\, but realize that space may not be available. \n  \n\n\nHomeschool Ages 5-8\n \n\n\nHomeschool Ages 9-12\n \n\n\n  \n  \n  \n  \n
URL:https://aldoleopoldnaturecenter.org/event/homeschool-program-changes-over-time/
LOCATION:Aldo Leopold Nature Center | Monona Campus\, 330 Femrite Drive\, Monona\, 53716\, United States
CATEGORIES:Homeschool Programs,Youth Programs
ORGANIZER;CN="Aldo%20Leopold%20Nature%20Center":MAILTO:alnc@aldoleopoldnaturecenter.org
END:VEVENT
BEGIN:VEVENT
DTSTART;TZID=America/Chicago:20181218T131500
DTEND;TZID=America/Chicago:20181218T143000
DTSTAMP:20260420T025545
CREATED:20181112T145957Z
LAST-MODIFIED:20181112T145957Z
UID:12203-1545138900-1545143400@aldoleopoldnaturecenter.org
SUMMARY:Wonder Bugs Preschool Program: Winter Solstice (Tues PM)
DESCRIPTION:Let’s celebrate the shortest day(light) of the year in anticipation of longer and brighter days. Come join the festivities and explore nature-ful traditions and customs. Don’t be left in the dark! \nNotes:\n— All sessions include indoor and outdoor time. Please bring appropriate outdoor clothing.\n— All sessions include a snack.\n– For all sessions\, registration deadline is 24 hours prior to the program. For more information or to register by phone\, call 608-221-0404 x 1. Please call to inquire about space if planning to drop in or if less than 24 hours prior.\n— Siblings younger than age two are welcome to attend along with a paid registrant until he/she actively participates and/or consumes snack then he/she must be registered separately. \nFee: $10/Child (ALNC Members save 10%)\nAge: 2-5 years old \n \n
URL:https://aldoleopoldnaturecenter.org/event/wonder-bugs-preschool-program-winter-solstice-tues-pm/
LOCATION:Aldo Leopold Nature Center | Monona Campus\, 330 Femrite Drive\, Monona\, 53716\, United States
CATEGORIES:Wonder Bugs,Wonder Bugs Preschool Program,Youth Programs
ORGANIZER;CN="Aldo%20Leopold%20Nature%20Center":MAILTO:alnc@aldoleopoldnaturecenter.org
END:VEVENT
END:VCALENDAR