BEGIN:VCALENDAR
VERSION:2.0
PRODID:-//Aldo Leopold Nature Center - ECPv4.8.2//NONSGML v1.0//EN
CALSCALE:GREGORIAN
METHOD:PUBLISH
X-WR-CALNAME:Aldo Leopold Nature Center
X-ORIGINAL-URL:https://aldoleopoldnaturecenter.org
X-WR-CALDESC:Events for Aldo Leopold Nature Center
BEGIN:VEVENT
DTSTART;TZID=America/Chicago:20181227T090000
DTEND;TZID=America/Chicago:20181227T160000
DTSTAMP:20260420T044122
CREATED:20180927T132202Z
LAST-MODIFIED:20181015T182032Z
UID:12121-1545901200-1545926400@aldoleopoldnaturecenter.org
SUMMARY:Vacation Day: Snow Science (MGSD & MMSD)
DESCRIPTION:Snow is so much fun to play in! But there is a lot to learn about snow. How does snow form? What do snowflakes look like up close? Is snow always so cold or can it be warm? We will get to the bottom of the fluffy stuff as we learn and\, of course\, play in the snow! \nCost: $60/child for full day (9am-4pm) \nPlease pack a sack lunch. AM and PM snacks provided. \nAdditional info:\n— Vacation Day programming is designed for ages 5-12. Attendees will be split into groups according to age so material may be adjusted accordingly.\n— Please send your child with appropriate clothing to spend the majority of the day outdoors and bug spray and/or sunscreen if appropriate. \nExtended Day is available from 8 to 9 am and 4 to 5:30 pm for an additional cost. Click here to register for Extended Day.  \n \n
URL:https://aldoleopoldnaturecenter.org/event/vacation-day-snow-science/
LOCATION:Aldo Leopold Nature Center | Monona Campus\, 330 Femrite Drive\, Monona\, 53716\, United States
CATEGORIES:Vacation Day Programs,Youth Programs
ORGANIZER;CN="Aldo%20Leopold%20Nature%20Center":MAILTO:alnc@aldoleopoldnaturecenter.org
END:VEVENT
END:VCALENDAR