BEGIN:VCALENDAR
VERSION:2.0
PRODID:-//Aldo Leopold Nature Center - ECPv4.8.2//NONSGML v1.0//EN
CALSCALE:GREGORIAN
METHOD:PUBLISH
X-WR-CALNAME:Aldo Leopold Nature Center
X-ORIGINAL-URL:https://aldoleopoldnaturecenter.org
X-WR-CALDESC:Events for Aldo Leopold Nature Center
BEGIN:VEVENT
DTSTART;TZID=America/Chicago:20190104T090000
DTEND;TZID=America/Chicago:20190104T160000
DTSTAMP:20260419T141504
CREATED:20180927T133941Z
LAST-MODIFIED:20181015T182121Z
UID:12125-1546592400-1546617600@aldoleopoldnaturecenter.org
SUMMARY:Vacation Day: Little Critters (MMSD)
DESCRIPTION:Learning about little critters can be BIG fun! We’ll spend the day learning about mice\, voles\, moles\, shrews\, bats and more. Go on a food scavenger hunt\, search for signs and scat\, find out how they stay warm in winter\, dissect an owl pellet to put together a little critter skeleton\, and try to observe a little critter up close through live trapping and release. \nCost: $60/child for full day (9am-4pm) \nPlease pack a sack lunch. AM and PM snacks provided. \nAdditional info:\n— Vacation Day programming is designed for ages 5-12. Attendees will be split into groups according to age so material may be adjusted accordingly.\n— Please send your child with appropriate clothing to spend the majority of the day outdoors and bug spray and/or sunscreen if appropriate. \nExtended Day is available from 8 to 9 am and 4 to 5:30 pm for an additional cost. Click here to register for Extended Day.  \n \n
URL:https://aldoleopoldnaturecenter.org/event/vacation-day-little-critters-4/
LOCATION:Aldo Leopold Nature Center | Monona Campus\, 330 Femrite Drive\, Monona\, 53716\, United States
CATEGORIES:Vacation Day Programs,Youth Programs
ORGANIZER;CN="Aldo%20Leopold%20Nature%20Center":MAILTO:alnc@aldoleopoldnaturecenter.org
END:VEVENT
END:VCALENDAR