BEGIN:VCALENDAR
VERSION:2.0
PRODID:-//Aldo Leopold Nature Center - ECPv4.8.2//NONSGML v1.0//EN
CALSCALE:GREGORIAN
METHOD:PUBLISH
X-WR-CALNAME:Aldo Leopold Nature Center
X-ORIGINAL-URL:https://aldoleopoldnaturecenter.org
X-WR-CALDESC:Events for Aldo Leopold Nature Center
BEGIN:VEVENT
DTSTART;TZID=America/Chicago:20190208T090000
DTEND;TZID=America/Chicago:20190208T160000
DTSTAMP:20260419T160518
CREATED:20180927T134819Z
LAST-MODIFIED:20180927T135129Z
UID:12128-1549616400-1549641600@aldoleopoldnaturecenter.org
SUMMARY:Vacation Day: 6 More Weeks! (MMSD)
DESCRIPTION:From woolly bear caterpillars to groundhogs\, animals have been used for a long time as predictors of the weather. We will learn about some of these animals and what they predict\, along with some of their unique adaptations. Come learn and explore with us during these last weeks of winter!  \nCost: $60/child for full day (9am-4pm) \nPlease pack a sack lunch. AM and PM snacks provided. \nAdditional info:\n— Vacation Day programming is designed for ages 5-12. Attendees will be split into groups according to age so material may be adjusted accordingly.\n— Please send your child with appropriate clothing to spend the majority of the day outdoors and bug spray and/or sunscreen if appropriate. \nExtended Day is available from 8 to 9 am and 4 to 5:30 pm for an additional cost. Click here to register for Extended Day.  \n \n
URL:https://aldoleopoldnaturecenter.org/event/vacation-day-6-more-weeks-mmsd/
LOCATION:Aldo Leopold Nature Center | Monona Campus\, 330 Femrite Drive\, Monona\, 53716\, United States
CATEGORIES:Vacation Day Programs,Youth Programs
ORGANIZER;CN="Aldo%20Leopold%20Nature%20Center":MAILTO:alnc@aldoleopoldnaturecenter.org
END:VEVENT
BEGIN:VEVENT
DTSTART;TZID=America/Chicago:20190208T093000
DTEND;TZID=America/Chicago:20190208T104500
DTSTAMP:20260419T160518
CREATED:20181112T154530Z
LAST-MODIFIED:20181112T154530Z
UID:12227-1549618200-1549622700@aldoleopoldnaturecenter.org
SUMMARY:Wonder Bugs Preschool Program: Bright-Eyed\, Bushy-Tailed (Fri AM)
DESCRIPTION:Let’s visit with one of our most favorite furry friends. We’ll hop this way and that and explore rabbit nests and food. We’ll have a hoppin’ good time as we explore everything rabbit today! \nNotes:\n— All sessions include indoor and outdoor time. Please bring appropriate outdoor clothing.\n— All sessions include a snack.\n– For all sessions\, registration deadline is 24 hours prior to the program. For more information or to register by phone\, call 608-221-0404 x 1. Please call to inquire about space if planning to drop in or if less than 24 hours prior.\n— Siblings younger than age two are welcome to attend along with a paid registrant until he/she actively participates and/or consumes snack then he/she must be registered separately. \nFee: $10/Child (ALNC Members save 10%)\nAge: 2-5 years old \n \n
URL:https://aldoleopoldnaturecenter.org/event/wonder-bugs-preschool-program-bright-eyed-bushy-tailed-fri-am/
LOCATION:Aldo Leopold Nature Center | Monona Campus\, 330 Femrite Drive\, Monona\, 53716\, United States
CATEGORIES:Wonder Bugs,Wonder Bugs Preschool Program,Youth Programs
ORGANIZER;CN="Aldo%20Leopold%20Nature%20Center":MAILTO:alnc@aldoleopoldnaturecenter.org
END:VEVENT
END:VCALENDAR