BEGIN:VCALENDAR
VERSION:2.0
PRODID:-//Aldo Leopold Nature Center - ECPv4.8.2//NONSGML v1.0//EN
CALSCALE:GREGORIAN
METHOD:PUBLISH
X-WR-CALNAME:Aldo Leopold Nature Center
X-ORIGINAL-URL:https://aldoleopoldnaturecenter.org
X-WR-CALDESC:Events for Aldo Leopold Nature Center
BEGIN:VEVENT
DTSTART;TZID=America/Chicago:20190323T093000
DTEND;TZID=America/Chicago:20190323T120000
DTSTAMP:20260420T210640
CREATED:20190218T170235Z
LAST-MODIFIED:20190306T183904Z
UID:12575-1553333400-1553342400@aldoleopoldnaturecenter.org
SUMMARY:Family Public Program: Maple Syrup Mini-Fest
DESCRIPTION: \nJoin us for a FREE morning of fun at Dreambank*\, where we’ll explore the history and science of maple syruping in Wisconsin! \nCome one\, come all to our unique and unforgettable celebration of the season! This family-friendly event offers a blend of indoor and outdoor activities found nowhere else in Madison. Stations throughout Dreambank will lead visitors\, at their own pace\, through the history and science of maple syruping. \nSee maple syrup demonstrations and learn about the differences between sap and syrup. Hear stories of Native Americans\, pioneers and people today who tap trees for the production of maple syrup and sugar. Test your nature smarts and learn about sap production. Sample 100% pure Wisconsin maple syrup\, maple cream and enjoy maple-topped ice cream! \nIt really is a sweet (and sticky) way to kick-off spring! \n*Please note\, due to Learning Lab construction in the Discovery Wing at ALNC\, we are holding Maple Syrup Mini-Fest offsite this year. \n  \nChildren’s Environmental Education at ALNC is empowered by our 2019 Program and Media Partners. If you are interested in partnering with us\, please contact Kelley Van Egeren at kelley@aldoleopoldnaturecenter.org.\n  \nMany Thanks to Our 2019 Program Partners\n   \nMany Thanks to Our 2019 Media Partners\n    \n
URL:https://aldoleopoldnaturecenter.org/event/maple-syrup-mini-fest/
LOCATION:DreamBank\, 821 East Washington Avenue\, Madison\, WI\, 53703\, United States
GEO:43.0758813;-89.3829287
X-APPLE-STRUCTURED-LOCATION;VALUE=URI;X-ADDRESS=DreamBank 821 East Washington Avenue Madison WI 53703 United States;X-APPLE-RADIUS=500;X-TITLE=821 East Washington Avenue:geo:-89.3829287,43.0758813
CATEGORIES:Drop-In Programs,Family Activity
ORGANIZER;CN="Aldo%20Leopold%20Nature%20Center":MAILTO:alnc@aldoleopoldnaturecenter.org
END:VEVENT
BEGIN:VEVENT
DTSTART;TZID=America/Chicago:20190323T100000
DTEND;TZID=America/Chicago:20190323T113000
DTSTAMP:20260420T210640
CREATED:20170616T151527Z
LAST-MODIFIED:20181226T153548Z
UID:10649-1553335200-1553340600@aldoleopoldnaturecenter.org
SUMMARY:Bird & Nature Outing at Edna Taylor Conservation Park
DESCRIPTION: \nJoin a naturalist for a free and easy\, family-friendly walk from Aldo Leopold Nature Center into the beautiful Edna Taylor Conservation Park and enjoy a bit of nature education along the way. \nBird & Nature Outings at Edna Taylor Conservation Park\n4th Saturday of Every Month – 10am to 11:30am \nMeet at Aldo Leopold Nature Center\, 330 Femrite Drive\nPark in the first lot on the right\, gather in the nature center lobby\, or on the back deck \nThese nature outings are free and no registration is required. Co-sponsored by Madison FUN Friends of Urban Nature partner groups Madison Parks\, Madison Audubon\, and Aldo Leopold Nature Center. Contact (608) 698-0104 for more information. \n
URL:https://aldoleopoldnaturecenter.org/event/bird-and-nature-outing-at-edna-taylor-conservation-park-area-7/
LOCATION:Aldo Leopold Nature Center | Monona Campus\, 330 Femrite Drive\, Monona\, 53716\, United States
CATEGORIES:Family Activity,Public Programs
ORGANIZER;CN="Aldo%20Leopold%20Nature%20Center":MAILTO:alnc@aldoleopoldnaturecenter.org
END:VEVENT
END:VCALENDAR