BEGIN:VCALENDAR
VERSION:2.0
PRODID:-//Aldo Leopold Nature Center - ECPv4.8.2//NONSGML v1.0//EN
CALSCALE:GREGORIAN
METHOD:PUBLISH
X-WR-CALNAME:Aldo Leopold Nature Center
X-ORIGINAL-URL:https://aldoleopoldnaturecenter.org
X-WR-CALDESC:Events for Aldo Leopold Nature Center
BEGIN:VEVENT
DTSTART;TZID=America/Chicago:20190622T100000
DTEND;TZID=America/Chicago:20190622T113000
DTSTAMP:20260422T201841
CREATED:20170414T213022Z
LAST-MODIFIED:20190618T152957Z
UID:10508-1561197600-1561203000@aldoleopoldnaturecenter.org
SUMMARY:Bird and Nature Outing
DESCRIPTION:Bird and Nature Outing at Edna Taylor Conservation Park Area\n4th Saturday of Every Month – 10am to 11:30am \nThis week\, join the International Crane Foundation to discuss the importance of crane conservation as you hike from Aldo Leopold Nature Center into Edna Taylor Conservation Park. On your nature hike\, hopefully you’ll spot our nesting Sandhill cranes! \nMeet at Aldo Leopold Nature Center\, 330 Femrite Drive\nPark in the first lot on the right\, meet at Aldo Leopold Nature Center lobby area \nJoin a naturalist for an easy\, family-friendly walk from Aldo Leopold Nature Center into the beautiful Edna Taylor Conservation Park and enjoy a bit of nature education along the way. There are free nature outings and no registration is required. Co-sponsored by Madison FUN Friends of Urban Nature partner groups Madison Parks\, Madison Audubon\, and Aldo Leopold Nature Center. See our websites and Facebook pages for more details and fun bird and nature activities. Contact 608-698-0104 for more information. \n
URL:https://aldoleopoldnaturecenter.org/event/bird-and-nature-outing-at-edna-taylor-conservation-park-area-3/
LOCATION:Aldo Leopold Nature Center | Monona Campus\, 330 Femrite Drive\, Monona\, 53716\, United States
CATEGORIES:Family Activity,Public Programs
ATTACH;FMTTYPE=image/jpeg:https://aldoleopoldnaturecenter.org/wp-content/uploads/milkweed__monarch.jpg
ORGANIZER;CN="Aldo%20Leopold%20Nature%20Center":MAILTO:alnc@aldoleopoldnaturecenter.org
END:VEVENT
END:VCALENDAR