BEGIN:VCALENDAR
VERSION:2.0
PRODID:-//Aldo Leopold Nature Center - ECPv4.8.2//NONSGML v1.0//EN
CALSCALE:GREGORIAN
METHOD:PUBLISH
X-WR-CALNAME:Aldo Leopold Nature Center
X-ORIGINAL-URL:https://aldoleopoldnaturecenter.org
X-WR-CALDESC:Events for Aldo Leopold Nature Center
BEGIN:VEVENT
DTSTART;TZID=America/Chicago:20190727T100000
DTEND;TZID=America/Chicago:20190727T113000
DTSTAMP:20260423T050423
CREATED:20170616T151214Z
LAST-MODIFIED:20190624T171853Z
UID:10646-1564221600-1564227000@aldoleopoldnaturecenter.org
SUMMARY:Bird and Nature Outing
DESCRIPTION:Bird and Nature Outing at Edna Taylor Conservation Park Area\n4th Saturday of Every Month – 10am to 11:30am \nMeet at Aldo Leopold Nature Center\, 330 Femrite Drive\nPark in the first lot on the right\, meet at Aldo Leopold Nature Center lobby area \nJoin a Naturalist for an easy family friendly walk from the Aldo Leopold Nature Center into and beautiful Edna Taylor Conservation Park to enjoy the birds\, prairie plants\, and rich biodiversity of this hidden Urban Natural Area. This is a free nature outing\, so no registration is required. Regularly scheduled 4th Saturday of every month Bird and Nature Outings at Edna Taylor are co-sponsored by Madison FUN Friends of Urban Nature partner groups Madison Parks\, Madison Audubon\, and Aldo Leopold Nature Center. Contact 608-698-0104 for more information. \n
URL:https://aldoleopoldnaturecenter.org/event/bird-and-nature-outing-at-edna-taylor-conservation-park-area-4/
LOCATION:Aldo Leopold Nature Center | Monona Campus\, 330 Femrite Drive\, Monona\, 53716\, United States
CATEGORIES:Family Activity,Public Programs
ATTACH;FMTTYPE=image/jpeg:https://aldoleopoldnaturecenter.org/wp-content/uploads/kids-looking-1.jpg
ORGANIZER;CN="Aldo%20Leopold%20Nature%20Center":MAILTO:alnc@aldoleopoldnaturecenter.org
END:VEVENT
END:VCALENDAR