BEGIN:VCALENDAR
VERSION:2.0
PRODID:-//Aldo Leopold Nature Center - ECPv4.8.2//NONSGML v1.0//EN
CALSCALE:GREGORIAN
METHOD:PUBLISH
X-WR-CALNAME:Aldo Leopold Nature Center
X-ORIGINAL-URL:https://aldoleopoldnaturecenter.org
X-WR-CALDESC:Events for Aldo Leopold Nature Center
BEGIN:VEVENT
DTSTART;TZID=America/Chicago:20191023T090000
DTEND;TZID=America/Chicago:20191023T120000
DTSTAMP:20260425T120442
CREATED:20190925T210908Z
LAST-MODIFIED:20191003T144714Z
UID:13474-1571821200-1571832000@aldoleopoldnaturecenter.org
SUMMARY:Project Learning Tree: Secondary Educator Workshop
DESCRIPTION:Join us around the state to become trained in Project Learning Tree’s high school curriculum. PLT’s secondary materials provide engaging opportunities to connect older students to real-world environmental issues\, and help students (and teachers!) practice critical thinking skills. \nTopic areas may include (each workshop is different\, please read the additional information on each workshop for specific details): \n\nFocus on Forests (AM session)\nBiodiversity (AM session)\nForests of the World (PM session)\nPlaces We Live (PM session)\n\nCOST: $35/per session. Substitute reimbursements of up to $65 for one session or $125 for both sessions are available. Contact wcee@uwsp.edu for details. \n
URL:https://aldoleopoldnaturecenter.org/event/project-learning-tree-secondary-educator-workshop/2019-10-23/
LOCATION:Aldo Leopold Nature Center | Monona Campus\, 330 Femrite Drive\, Monona\, 53716\, United States
CATEGORIES:Adult and Teacher Workshops,Adult Programs
ATTACH;FMTTYPE=image/jpeg:https://aldoleopoldnaturecenter.org/wp-content/uploads/Group-in-Edna-Taylor.jpg
ORGANIZER;CN="Aldo%20Leopold%20Nature%20Center":MAILTO:alnc@aldoleopoldnaturecenter.org
END:VEVENT
END:VCALENDAR