BEGIN:VCALENDAR
VERSION:2.0
PRODID:-//Aldo Leopold Nature Center - ECPv4.8.2//NONSGML v1.0//EN
CALSCALE:GREGORIAN
METHOD:PUBLISH
X-WR-CALNAME:Aldo Leopold Nature Center
X-ORIGINAL-URL:https://aldoleopoldnaturecenter.org
X-WR-CALDESC:Events for Aldo Leopold Nature Center
BEGIN:VEVENT
DTSTART;TZID=America/Chicago:20191123T100000
DTEND;TZID=America/Chicago:20191123T113000
DTSTAMP:20260423T122500
CREATED:20190925T175535Z
LAST-MODIFIED:20191120T170835Z
UID:13530-1574503200-1574508600@aldoleopoldnaturecenter.org
SUMMARY:Bird & Nature Outing
DESCRIPTION:Tailored to the Weather with Tara Von Dollen\nWe will weather the weather whatever the weather and discover whatever is weathering it too! Join Naturalist Tara Von Dollen to explore hiking trails at the Aldo Leopold Nature Center and through the ponds and woodlands of beautiful Edna Taylor Conservation Park.  \nBird and Nature Outings at Edna Taylor Conservation Park Area\n4th Saturday of Every Month – 10am to 11:30am \nMeet at Aldo Leopold Nature Center\, 330 Femrite Drive\nPark in the first lot on the right\, meet at Aldo Leopold Nature Center lobby area \nJoin a naturalist for an easy\, family-friendly walk from Aldo Leopold Nature Center into the beautiful Edna Taylor Conservation Park and enjoy a bit of nature education along the way. These are free nature outings and no registration is required. Co-sponsored by Madison FUN Friends of Urban Nature partner groups Madison Parks\, Madison Audubon\, and Aldo Leopold Nature Center. See our websites and Facebook pages for more details and fun bird and nature activities. Contact 608-698-0104 for more information. \nA photographer may be onsite to document this event. If you would not like your photo taken\, please advise the photographer. Thank you! \n
URL:https://aldoleopoldnaturecenter.org/event/bird-nature-outing-2019-11-23/
LOCATION:Aldo Leopold Nature Center | Monona Campus\, 330 Femrite Drive\, Monona\, 53716\, United States
ATTACH;FMTTYPE=image/jpeg:https://aldoleopoldnaturecenter.org/wp-content/uploads/cranes_fall-1.jpg
ORGANIZER;CN="Aldo%20Leopold%20Nature%20Center":MAILTO:alnc@aldoleopoldnaturecenter.org
END:VEVENT
END:VCALENDAR