BEGIN:VCALENDAR
VERSION:2.0
PRODID:-//Aldo Leopold Nature Center - ECPv4.8.2//NONSGML v1.0//EN
CALSCALE:GREGORIAN
METHOD:PUBLISH
X-WR-CALNAME:Aldo Leopold Nature Center
X-ORIGINAL-URL:https://aldoleopoldnaturecenter.org
X-WR-CALDESC:Events for Aldo Leopold Nature Center
BEGIN:VEVENT
DTSTART;TZID=America/Chicago:20251115T150000
DTEND;TZID=America/Chicago:20251115T190000
DTSTAMP:20260421T225851
CREATED:20250724T172422Z
LAST-MODIFIED:20251030T164523Z
UID:21221-1763218800-1763233200@aldoleopoldnaturecenter.org
SUMMARY:Monona Indigenous Roots Dinner
DESCRIPTION:Celebrating Ho-Chunk Heritage: A Fundraiser for Cultural Preservation \n Be part of a powerful evening honoring the heritage\, resilience\, and future of the Ho-Chunk Nation. The Indigenous Roots Dinner is more than a meal; it’s a celebration of community\, culture\, and connection. \nYour $100 ticket includes: \n\nA thoughtfully crafted multi-course dinner spotlighting local and traditional Indigenous ingredients\nThe unveiling of the first statue in Monona’s Four Directions Project — a tribute to Ho-Chunk past\, present\, and future\nA sweet final course — inspired by traditional ingredients — to enjoy as you mingle and connect\nThe opportunity to connect with Ho-Chunk leaders\, city and state officials\, and Ho-Chunk artists and teachers\nAccess to our silent auction featuring unique items and experiences\, with all proceeds supporting future cultural and educational initiatives\n\nA cash bar will offer wine\, beer\, and signature craft mocktail selections to complement your evening\n\nSpace is limited for this unforgettable evening. Reserve your seat today and help us build lasting bridges of respect\, understanding\, and celebration.\n \nMore Information Here. \nBuy Your Tickets Here. \n
URL:https://aldoleopoldnaturecenter.org/event/monona-indigenous-roots-dinner/
LOCATION:Aldo Leopold Nature Center | Monona Campus\, 330 Femrite Drive\, Monona\, 53716\, United States
ATTACH;FMTTYPE=image/jpeg:https://aldoleopoldnaturecenter.org/wp-content/uploads/IndigenousRootsDinner-square.jpg
ORGANIZER;CN="Aldo%20Leopold%20Nature%20Center":MAILTO:alnc@aldoleopoldnaturecenter.org
END:VEVENT
END:VCALENDAR