BEGIN:VCALENDAR
VERSION:2.0
PRODID:-//Aldo Leopold Nature Center - ECPv4.8.2//NONSGML v1.0//EN
CALSCALE:GREGORIAN
METHOD:PUBLISH
X-WR-CALNAME:Aldo Leopold Nature Center
X-ORIGINAL-URL:https://aldoleopoldnaturecenter.org
X-WR-CALDESC:Events for Aldo Leopold Nature Center
BEGIN:VEVENT
DTSTART;TZID=America/Chicago:20251207T090000
DTEND;TZID=America/Chicago:20251207T150000
DTSTAMP:20260422T022808
CREATED:20230719T153521Z
LAST-MODIFIED:20251119T200311Z
UID:17673-1765098000-1765119600@aldoleopoldnaturecenter.org
SUMMARY:Holiday Market
DESCRIPTION:\nCall for sustainable vendors!\nAre you interested in vending at ALNC’s Holiday Market? This year’s sale will be held on Sunday\, December 7th\, from 9am to 3pm. Applications for vendors will be accepted September 1st through the 15th and selections will prioritize sustainable\, locally-made\, and unique items. \n \nHoliday Market Vendor Application\n  \n\n\n  \nLooking for sustainable\, one-of-a-kind holiday gifts that support local artisans and a good cause?\nVisit Aldo Leopold Nature Center’s Holiday Market!\nPeruse and sample delicious foods made locally from Wisconsin ingredients. Shop and gift sustainably-made\, nature-inspired\, and found-object art. Purchase handcrafted jewelry\, hand-dyed scarves\, handspun yarns\, DIY craft gifts\, and so much more. Find gifts for all the people on your holiday lists! \nThe Holiday Market features local\, sustainable artists and vendors in a festive atmosphere\, while inviting the community to visit the Aldo Leopold Nature Center! With FREE admission and FREE parking\, the Holiday Market is a perfect place to find ALL your holiday gifts.\n  \nSpread Holiday Cheer – Become a Sponsor! \n  \nHungry? The Ugly Apple Cafe will be onsite with food and beverages for sale!\n \n\nOur 2025 Vendors Include\n \nWEARABLES & ACCESSORIES \n\nKnit Wit 608: Merino wool hats\, mittens\, scarves\, and home décor made with wool yarn and recycled cotton cord.\nSandy B Handwovens: Unique handwoven jackets\, scarves\, and accessories crafted from natural fibers.\nSJW Handmade: Upcycled wool hats\, mittens\, ponchos\, and dryer balls made from repurposed materials.\nA Botanical Dyery: Plant-dyed textiles including scarves\, napkins\, and table runners.\nSeamingly Stitched: Handmade purses and bags created from new and upcycled fabrics.\nKF Designs: Handcrafted purses and bags in colorful\, durable\, sustainable designs.\nOopsie Daisy Design: Sweatshirts made with vintage quilts as well as notebooks\, notepads\, and bookmarks made with local pressed florals.\nThe Happy Kitty: Cat toys\, pillows\, and décor made from upcycled fabrics and garments.\nThe River Food Pantry: Handmade wool mittens supporting food security programs in Dane County.\n\nJEWERLY \n\nFovea Works Jewelry: Nature-inspired wearable art made with unique found objects\, resin\, and wire wrapping.\nEarth Element Jewelry: Sterling silver jewelry crafted from post-consumer recycled materials.\nEarth Delights: Fair trade sterling silver jewelry featuring semi-precious stones.\nLady Crown Glass & Creative Juice: Flameworked glass jewelry\, airplant holders\, and upcycled bottle art.\n\nHOME DECOR \n\nMulberry Woods: One-of-a-kind wooden picture frames made from locally sourced wood.\nPretty Pots N’ Pieces: Unique mosaic and fused glass décor made from repurposed materials.\nStudio 8809: Locally sourced wooden charcuterie boards accented with colored epoxy.\nGlow Wood Studio: Handcrafted hardwood boxes and décor showcasing natural grain and beauty.\nJosie Lathrop Ceramics: Functional\, eco-conscious ceramics for everyday use.\nKaren Kards and Crafts: Upcycled fabric goods\, pressed floral art\, and eco-friendly stationery.\nDame Good Crafts: Sustainable home goods including cloth napkins\, un-paper towels\, and denim bags.\nArt by Anna Flowers: Repurposed frames and materials transformed into local-inspired art and décor.\nJoshua Ludke Artist: Sculptures made from reclaimed wood and repurposed materials.\nWatercolors by TAK: Wisconsin-inspired watercolor paintings and poetry celebrating nature.\nHandicraft Soul Fair Trade: Fair trade baskets\, purses\, and ornaments made from recycled and natural materials by women artisans in Africa.\n\n\n\n\n\n\n\nHave questions? Please email Rebecca Wright\, Private Events Manager\, or call (608) 801-0080.\n  \n\nA photographer may be onsite to document this event. If you would not like your photo taken\, please advise the photographer. Thank you! \n\n\nWith appreciation to our 2025 partners who make events like this possible!\nIf you are interested in partnering with us\, please contact Lizzie Condon at lizzie@aldoleopoldnaturecenter.org. \n  \nEvent Partners\n \n  \nMedia Partners\n  \n  \nWondering about lodging?\nCountry Inn & Suites\, AVID Hotel\, and AmericInn are all located within 1.5 miles from the Aldo Leopold Nature Center. \nCountry Inn & Suites has a shuttle. \n   \n  \nInterested in a place more home-y?\nCheck out the AirBnB\, and Verbo rentals in Monona. \n  \n  \n\n
URL:https://aldoleopoldnaturecenter.org/event/holiday-market/
LOCATION:Aldo Leopold Nature Center | Monona Campus\, 330 Femrite Drive\, Monona\, 53716\, United States
CATEGORIES:Drop-In Programs,Public Programs
ATTACH;FMTTYPE=image/png:https://aldoleopoldnaturecenter.org/wp-content/uploads/website-image.png
ORGANIZER;CN="Aldo%20Leopold%20Nature%20Center":MAILTO:alnc@aldoleopoldnaturecenter.org
END:VEVENT
END:VCALENDAR